BEGIN:VCALENDAR
VERSION:2.0
PRODID:-//Texas Forest Country Living - ECPv6.15.20//NONSGML v1.0//EN
CALSCALE:GREGORIAN
METHOD:PUBLISH
X-WR-CALNAME:Texas Forest Country Living
X-ORIGINAL-URL:https://www.texasforestcountryliving.com
X-WR-CALDESC:Events for Texas Forest Country Living
REFRESH-INTERVAL;VALUE=DURATION:PT1H
X-Robots-Tag:noindex
X-PUBLISHED-TTL:PT1H
BEGIN:VTIMEZONE
TZID:America/Chicago
BEGIN:DAYLIGHT
TZOFFSETFROM:-0600
TZOFFSETTO:-0500
TZNAME:CDT
DTSTART:20250309T080000
END:DAYLIGHT
BEGIN:STANDARD
TZOFFSETFROM:-0500
TZOFFSETTO:-0600
TZNAME:CST
DTSTART:20251102T070000
END:STANDARD
BEGIN:DAYLIGHT
TZOFFSETFROM:-0600
TZOFFSETTO:-0500
TZNAME:CDT
DTSTART:20260308T080000
END:DAYLIGHT
BEGIN:STANDARD
TZOFFSETFROM:-0500
TZOFFSETTO:-0600
TZNAME:CST
DTSTART:20261101T070000
END:STANDARD
BEGIN:DAYLIGHT
TZOFFSETFROM:-0600
TZOFFSETTO:-0500
TZNAME:CDT
DTSTART:20270314T080000
END:DAYLIGHT
BEGIN:STANDARD
TZOFFSETFROM:-0500
TZOFFSETTO:-0600
TZNAME:CST
DTSTART:20271107T070000
END:STANDARD
END:VTIMEZONE
BEGIN:VEVENT
DTSTART;TZID=America/Chicago:20260113T163000
DTEND;TZID=America/Chicago:20260113T173000
DTSTAMP:20260425T060017
CREATED:20260107T110258Z
LAST-MODIFIED:20260107T111337Z
UID:10003501-1768321800-1768325400@www.texasforestcountryliving.com
SUMMARY:Ribbon Cutting Ceremonies (Nacogdoches County)
DESCRIPTION:Carr\, Riggs & Ingram\, Jan 13Location: 3524 NE Stallings Dr. Nacogdoches TX 75965 \n\n\n\nInternational Farmers and Ranchers\, Jan 28Location: 320 North St.\, Suite 309 \n\n\n\nEast Texas Community Health Services\, Jan 29Location: 1210 Douglass Rd. Nacogdoches TX 75964 \n\n\n\nFlexible Staffing\, Feb 24Location: 407 E. Hospital St.
URL:https://www.texasforestcountryliving.com/event/ribbon-cutting-ceremonies-nacogdoches-county/
CATEGORIES:Nacogdoches County
ATTACH;FMTTYPE=image/jpeg:https://www.texasforestcountryliving.com/wp-content/uploads/2026/01/unnamed-51.jpg
END:VEVENT
END:VCALENDAR