BEGIN:VCALENDAR
VERSION:2.0
PRODID:-//Texas Forest Country Living - ECPv6.15.20//NONSGML v1.0//EN
CALSCALE:GREGORIAN
METHOD:PUBLISH
X-WR-CALNAME:Texas Forest Country Living
X-ORIGINAL-URL:https://www.texasforestcountryliving.com
X-WR-CALDESC:Events for Texas Forest Country Living
REFRESH-INTERVAL;VALUE=DURATION:PT1H
X-Robots-Tag:noindex
X-PUBLISHED-TTL:PT1H
BEGIN:VTIMEZONE
TZID:America/Chicago
BEGIN:DAYLIGHT
TZOFFSETFROM:-0600
TZOFFSETTO:-0500
TZNAME:CDT
DTSTART:20240310T080000
END:DAYLIGHT
BEGIN:STANDARD
TZOFFSETFROM:-0500
TZOFFSETTO:-0600
TZNAME:CST
DTSTART:20241103T070000
END:STANDARD
BEGIN:DAYLIGHT
TZOFFSETFROM:-0600
TZOFFSETTO:-0500
TZNAME:CDT
DTSTART:20250309T080000
END:DAYLIGHT
BEGIN:STANDARD
TZOFFSETFROM:-0500
TZOFFSETTO:-0600
TZNAME:CST
DTSTART:20251102T070000
END:STANDARD
BEGIN:DAYLIGHT
TZOFFSETFROM:-0600
TZOFFSETTO:-0500
TZNAME:CDT
DTSTART:20260308T080000
END:DAYLIGHT
BEGIN:STANDARD
TZOFFSETFROM:-0500
TZOFFSETTO:-0600
TZNAME:CST
DTSTART:20261101T070000
END:STANDARD
END:VTIMEZONE
BEGIN:VEVENT
DTSTART;TZID=America/Chicago:20251007T103000
DTEND;TZID=America/Chicago:20251007T130000
DTSTAMP:20260425T203353
CREATED:20251002T134021Z
LAST-MODIFIED:20251002T134025Z
UID:10003469-1759833000-1759842000@www.texasforestcountryliving.com
SUMMARY:3rd Annual Passion for Purple (Angelina County)
DESCRIPTION:Join the Family Crisis Center of East Texas on Tuesday\, October 7\, 2025\, for an afternoon of hope\, healing\, and powerful purpose to support survivors of domestic violence across East Texas.  \n\n\n\nThis year’s keynote speakers are Nichole & Jim Schmidt\, who turned the tragic loss of their daughter\, Gabby Petito\, into a mission\, advocating for missing persons and survivors of domestic violence through the Gabby Petito Foundation. \n\n\n\n Tickets are $50 for individuals and $500 for reserved tables (seats 8\, with the option to add 2). \n\n\n\nTickets are available at http://zeffy.com/…/passion-for-purple-luncheon–2025
URL:https://www.texasforestcountryliving.com/event/3rd-annual-passion-for-purple-angelina-county/
LOCATION:Pitser Garrison Convention Center
CATEGORIES:Angelina County
ATTACH;FMTTYPE=image/jpeg:https://www.texasforestcountryliving.com/wp-content/uploads/2025/10/557588414_1399950318800121_751188646510363103_n.jpg
END:VEVENT
BEGIN:VEVENT
DTSTART;TZID=America/Chicago:20251009T100000
DTEND;TZID=America/Chicago:20251009T120000
DTSTAMP:20260425T203353
CREATED:20251003T000000Z
LAST-MODIFIED:20251003T152721Z
UID:10003470-1760004000-1760011200@www.texasforestcountryliving.com
SUMMARY:The AI Shift (Angelina County)
DESCRIPTION:The AI Shift is coming! Are you ready? Join Lufkin Association of REALTORS on October 9 for a high-energy session with innovation strategist Alex Goryachev on how to adapt\, compete & thrive in the AI era. \n\n\n\n Practical ways to use AI in business Tools to work smarter Ideas to future-proof your career & team Oct. 9 | 10am–12pm | Lunch included \n\n\n\n Location: Pitser Garrison Civic Center \n\n\n\n FREE for LAR Members | $50 Non-Members \n\n\n\n Register: https://form.jotform.com/251866767245066
URL:https://www.texasforestcountryliving.com/event/the-ai-shift-angelina-county/
LOCATION:Pitser Garrison Civic Center\, Lufkin\, TX\, 75901
CATEGORIES:Angelina County
ATTACH;FMTTYPE=image/jpeg:https://www.texasforestcountryliving.com/wp-content/uploads/2025/10/557633772_1397895719005581_5158873803912878951_n.jpg
END:VEVENT
BEGIN:VEVENT
DTSTART;TZID=America/Chicago:20251029T120000
DTEND;TZID=America/Chicago:20251029T130000
DTSTAMP:20260425T203353
CREATED:20251013T103620Z
LAST-MODIFIED:20251013T103624Z
UID:10003476-1761739200-1761742800@www.texasforestcountryliving.com
SUMMARY:Feed Your Future (Angelina County)
DESCRIPTION:Feed your mind while you eat your lunch! Join the Chamber’s Young Professionals Network (YPN) on Wednesday\, October 29 for Feed Your Future: Small Bites. Big Takeaways\, a young professionals (under 40) series that brings fresh ideas (and local leaders) to the table. \n\n\n\nThis month’s speaker is the YPN program sponsor: Brandie Garner with Texas Farm Bureau Insurance\, sharing real-world advice on insurance and future planning. \n\n\n\nBring your lunch and leave with something even better\, knowledge and connections. Limited seating\, so register early >>> bit.ly/YPN1025
URL:https://www.texasforestcountryliving.com/event/feed-your-future-angelina-county/
LOCATION:Lufkin/Angelina County Chamber of Commerce\, 1615 S. Chestnut\, Lufkin\, TX\, 75901\, United States
CATEGORIES:Angelina County
ATTACH;FMTTYPE=image/jpeg:https://www.texasforestcountryliving.com/wp-content/uploads/2025/10/559033312_1406165348178618_4298422971862161850_n.jpg
END:VEVENT
END:VCALENDAR