BEGIN:VCALENDAR
VERSION:2.0
PRODID:-//Texas Forest Country Living - ECPv6.15.20//NONSGML v1.0//EN
CALSCALE:GREGORIAN
METHOD:PUBLISH
X-ORIGINAL-URL:https://www.texasforestcountryliving.com
X-WR-CALDESC:Events for Texas Forest Country Living
REFRESH-INTERVAL;VALUE=DURATION:PT1H
X-Robots-Tag:noindex
X-PUBLISHED-TTL:PT1H
BEGIN:VTIMEZONE
TZID:America/Chicago
BEGIN:DAYLIGHT
TZOFFSETFROM:-0600
TZOFFSETTO:-0500
TZNAME:CDT
DTSTART:20250309T080000
END:DAYLIGHT
BEGIN:STANDARD
TZOFFSETFROM:-0500
TZOFFSETTO:-0600
TZNAME:CST
DTSTART:20251102T070000
END:STANDARD
BEGIN:DAYLIGHT
TZOFFSETFROM:-0600
TZOFFSETTO:-0500
TZNAME:CDT
DTSTART:20260308T080000
END:DAYLIGHT
BEGIN:STANDARD
TZOFFSETFROM:-0500
TZOFFSETTO:-0600
TZNAME:CST
DTSTART:20261101T070000
END:STANDARD
BEGIN:DAYLIGHT
TZOFFSETFROM:-0600
TZOFFSETTO:-0500
TZNAME:CDT
DTSTART:20270314T080000
END:DAYLIGHT
BEGIN:STANDARD
TZOFFSETFROM:-0500
TZOFFSETTO:-0600
TZNAME:CST
DTSTART:20271107T070000
END:STANDARD
END:VTIMEZONE
BEGIN:VEVENT
DTSTART;TZID=America/Chicago:20260102T080000
DTEND;TZID=America/Chicago:20260102T170000
DTSTAMP:20260424T190949
CREATED:20260102T124210Z
LAST-MODIFIED:20260102T124216Z
UID:10003499-1767340800-1767373200@www.texasforestcountryliving.com
SUMMARY:106th Annual Chamber Banquet & Meeting (Angelina County)
DESCRIPTION:Join us for the 106th Annual Chamber Banquet & Meeting on January 29! Start the evening with a reception at 6 PM\, followed by dinner and awards at 7 PM. Tables are $600\, and individual seats are $60. \n\n\n\nReserve yours today by calling 936-634-6644 or online at bit.ly/ACBM-26. \n\n\n\nInterested in sponsoring? Email Admin@LufkinTexas.org for details.
URL:https://www.texasforestcountryliving.com/event/106th-annual-chamber-banquet-meeting-angelina-county/
LOCATION:Pitser Garrison Convention Center
CATEGORIES:Angelina County
ATTACH;FMTTYPE=image/jpeg:https://www.texasforestcountryliving.com/wp-content/uploads/2026/01/596401140_1466221675506318_612928429918259865_n.jpg
END:VEVENT
BEGIN:VEVENT
DTSTART;TZID=America/Chicago:20260115T173000
DTEND;TZID=America/Chicago:20260115T200000
DTSTAMP:20260424T190949
CREATED:20260107T173000Z
LAST-MODIFIED:20260108T142120Z
UID:10003505-1768498200-1768507200@www.texasforestcountryliving.com
SUMMARY:Cheers with The Chamber (Angelina County)
DESCRIPTION:Join us Thursday\, January 15 at 5:30 PM for the first Cheers with the Chamber of the year\, hosted by Parkwood in the Pines. \n\n\n\nCheers with the Chamber is a great opportunity for networking and building connections within the community. It is also a wonderful way for Chamber Investors to showcase their business and all that they have to offer. \n\n\n\nWe will see you there!
URL:https://www.texasforestcountryliving.com/event/cheers-with-the-chamber-angelina-county-7/
LOCATION:902 Hill St.\, Lufkin\, 902 Hill\, Lufkin\, United States
CATEGORIES:Angelina County
ATTACH;FMTTYPE=image/jpeg:https://www.texasforestcountryliving.com/wp-content/uploads/2026/01/607716522_1488397599955392_857554205542598549_n.jpg
END:VEVENT
END:VCALENDAR