BEGIN:VCALENDAR
VERSION:2.0
PRODID:-//Texas Forest Country Living - ECPv6.15.20//NONSGML v1.0//EN
CALSCALE:GREGORIAN
METHOD:PUBLISH
X-ORIGINAL-URL:https://www.texasforestcountryliving.com
X-WR-CALDESC:Events for Texas Forest Country Living
REFRESH-INTERVAL;VALUE=DURATION:PT1H
X-Robots-Tag:noindex
X-PUBLISHED-TTL:PT1H
BEGIN:VTIMEZONE
TZID:America/Chicago
BEGIN:DAYLIGHT
TZOFFSETFROM:-0600
TZOFFSETTO:-0500
TZNAME:CDT
DTSTART:20240310T080000
END:DAYLIGHT
BEGIN:STANDARD
TZOFFSETFROM:-0500
TZOFFSETTO:-0600
TZNAME:CST
DTSTART:20241103T070000
END:STANDARD
BEGIN:DAYLIGHT
TZOFFSETFROM:-0600
TZOFFSETTO:-0500
TZNAME:CDT
DTSTART:20250309T080000
END:DAYLIGHT
BEGIN:STANDARD
TZOFFSETFROM:-0500
TZOFFSETTO:-0600
TZNAME:CST
DTSTART:20251102T070000
END:STANDARD
BEGIN:DAYLIGHT
TZOFFSETFROM:-0600
TZOFFSETTO:-0500
TZNAME:CDT
DTSTART:20260308T080000
END:DAYLIGHT
BEGIN:STANDARD
TZOFFSETFROM:-0500
TZOFFSETTO:-0600
TZNAME:CST
DTSTART:20261101T070000
END:STANDARD
END:VTIMEZONE
BEGIN:VEVENT
DTSTART;TZID=America/Chicago:20251204T100000
DTEND;TZID=America/Chicago:20251204T180000
DTSTAMP:20260424T223656
CREATED:20251204T130101Z
LAST-MODIFIED:20251204T130105Z
UID:10003492-1764842400-1764871200@www.texasforestcountryliving.com
SUMMARY:Bella Salon Christmas Party (Angelina County)
DESCRIPTION:You’re Invited: Bella Salon Christmas Party – December 4th!  \n\n\n\nA Celebration of Beauty\, Community & Holiday Cheer \n\n\n\nThe holiday season is officially here\, and we could not be more excited to invite YOU to our Annual Bella Salon Christmas Party on Thursday\, December 4th from 10 AM – 6 PM! \n\n\n\nThis is one of our favorite days of the entire year—a time when we get to celebrate with our beautiful Bella family\, spoil our guests\, and spread a little extra holiday magic. Whether you’re shopping for loved ones\, picking up gifts for yourself\, or just want to enjoy a fun day at the salon… You don’t want to miss this event. \n\n\n\nWhat You Can Expect: \n\n\n\nDoor Prizes & GiveawaysWe’ll be giving away prizes throughout the day—so yes\, every visit comes with a chance to WIN! \n\n\n\n25% OFF All Aveda Products35% OFF All Aveda SkincareThis is our BIGGEST product sale of the year!Stock up on gifts\, favorites\, and the Aveda essentials you love. \n\n\n\nPRO TIP: Aveda makes the BEST stocking stuffers! \n\n\n\nHoliday Drinks & SnacksEnjoy festive treats while you shop!We’ll even be serving a specialty Christmas cocktail you’re going to LOVE. \n\n\n\n20% OFF Shampoo + Blowout Specials- the day of!Come treat yourself to a little glam time—perfect for holiday photos\, parties\, or just because you deserve it. \n\n\n\nExtra Service Discounts & IncentivesWe’ll have surprise savings on select services throughout the day \, including 20% OFF SELECT SERVICES when you prebook with select stylists! – you MUST be here to take advantage of them! \n\n\n\nShop for Christmas… or Treat Yourself \n\n\n\nThis event is perfect if you want to:Build a custom Aveda gift boxTreat your best friend\, sister\, mom… (or YOU!)Support local small businesses while holiday shopping \n\n\n\nStock up on haircare + skincare for the winter season \n\n\n\nEnjoy a beautiful day celebrating with the Bella team \n\n\n\nNo appointment is required to shop—but if you want a shampoo blowout\, we recommend booking ahead! \n\n\n\nEvent Details: \n\n\n\nBella SalonThursday\, December 4th10 AM – 6 PM \n\n\n\nCall us at 936-634-2004Or book online at www.bellasalonoflufkin.com \n\n\n\nBring a friend\, bring your holiday spirit\, and come be part of the Bella magic.We truly can’t wait to celebrate with you! \n\n\n\nHappy Holidays from all of us at Bella Salon — where beauty\, community\, and joy always come first. 
URL:https://www.texasforestcountryliving.com/event/bella-salon-christmas-party-angelina-county/
LOCATION:Bella Salon and Boutique
CATEGORIES:Angelina County
ATTACH;FMTTYPE=image/jpeg:https://www.texasforestcountryliving.com/wp-content/uploads/2025/12/593004827_1483521036613858_6720786239950060767_n.jpg
END:VEVENT
END:VCALENDAR