BEGIN:VCALENDAR
VERSION:2.0
PRODID:-//Texas Forest Country Living - ECPv6.15.20//NONSGML v1.0//EN
CALSCALE:GREGORIAN
METHOD:PUBLISH
X-WR-CALNAME:Texas Forest Country Living
X-ORIGINAL-URL:https://www.texasforestcountryliving.com
X-WR-CALDESC:Events for Texas Forest Country Living
REFRESH-INTERVAL;VALUE=DURATION:PT1H
X-Robots-Tag:noindex
X-PUBLISHED-TTL:PT1H
BEGIN:VTIMEZONE
TZID:America/Chicago
BEGIN:DAYLIGHT
TZOFFSETFROM:-0600
TZOFFSETTO:-0500
TZNAME:CDT
DTSTART:20230312T080000
END:DAYLIGHT
BEGIN:STANDARD
TZOFFSETFROM:-0500
TZOFFSETTO:-0600
TZNAME:CST
DTSTART:20231105T070000
END:STANDARD
BEGIN:DAYLIGHT
TZOFFSETFROM:-0600
TZOFFSETTO:-0500
TZNAME:CDT
DTSTART:20240310T080000
END:DAYLIGHT
BEGIN:STANDARD
TZOFFSETFROM:-0500
TZOFFSETTO:-0600
TZNAME:CST
DTSTART:20241103T070000
END:STANDARD
BEGIN:DAYLIGHT
TZOFFSETFROM:-0600
TZOFFSETTO:-0500
TZNAME:CDT
DTSTART:20250309T080000
END:DAYLIGHT
BEGIN:STANDARD
TZOFFSETFROM:-0500
TZOFFSETTO:-0600
TZNAME:CST
DTSTART:20251102T070000
END:STANDARD
END:VTIMEZONE
BEGIN:VEVENT
DTSTART;TZID=America/Chicago:20241218T090000
DTEND;TZID=America/Chicago:20241218T120000
DTSTAMP:20260421T175212
CREATED:20241213T152027Z
LAST-MODIFIED:20241213T152027Z
UID:10003106-1734512400-1734523200@www.texasforestcountryliving.com
SUMMARY:Share Your Holidays (Coldspring County)
DESCRIPTION:Good morning Coldspring\, TX!I just got word from our members at Care Share Missions that they will be hosting their annual \nSHARE YOUR HOLIDAYS! \nThe event will be on next Wednesday\, Dec. 18th at 9 am to 12 pm!They have partnered with Houston Food Bank for this event. Families who attend will not need to register and it is still FREE! There will also be a coat and blanket drive at the same location (21 North Butler Street in Coldspring)!
URL:https://www.texasforestcountryliving.com/event/share-your-holidays-coldspring-county/
LOCATION:21 North Butler Street in Coldspring
CATEGORIES:Coldspring County
ATTACH;FMTTYPE=image/jpeg:https://www.texasforestcountryliving.com/wp-content/uploads/2024/12/470081021_993902656099920_6713775148405267828_n.jpg
ORGANIZER;CN="Coldspring Chamber of Commerce":MAILTO:chambercoldspringtexas@gmail.com
END:VEVENT
END:VCALENDAR