BEGIN:VCALENDAR
VERSION:2.0
PRODID:-//Texas Forest Country Living - ECPv6.15.20//NONSGML v1.0//EN
CALSCALE:GREGORIAN
METHOD:PUBLISH
X-WR-CALNAME:Texas Forest Country Living
X-ORIGINAL-URL:https://www.texasforestcountryliving.com
X-WR-CALDESC:Events for Texas Forest Country Living
REFRESH-INTERVAL;VALUE=DURATION:PT1H
X-Robots-Tag:noindex
X-PUBLISHED-TTL:PT1H
BEGIN:VTIMEZONE
TZID:America/Chicago
BEGIN:DAYLIGHT
TZOFFSETFROM:-0600
TZOFFSETTO:-0500
TZNAME:CDT
DTSTART:20210314T080000
END:DAYLIGHT
BEGIN:STANDARD
TZOFFSETFROM:-0500
TZOFFSETTO:-0600
TZNAME:CST
DTSTART:20211107T070000
END:STANDARD
BEGIN:DAYLIGHT
TZOFFSETFROM:-0600
TZOFFSETTO:-0500
TZNAME:CDT
DTSTART:20220313T080000
END:DAYLIGHT
BEGIN:STANDARD
TZOFFSETFROM:-0500
TZOFFSETTO:-0600
TZNAME:CST
DTSTART:20221106T070000
END:STANDARD
BEGIN:DAYLIGHT
TZOFFSETFROM:-0600
TZOFFSETTO:-0500
TZNAME:CDT
DTSTART:20230312T080000
END:DAYLIGHT
BEGIN:STANDARD
TZOFFSETFROM:-0500
TZOFFSETTO:-0600
TZNAME:CST
DTSTART:20231105T070000
END:STANDARD
BEGIN:DAYLIGHT
TZOFFSETFROM:-0600
TZOFFSETTO:-0500
TZNAME:CDT
DTSTART:20240310T080000
END:DAYLIGHT
BEGIN:STANDARD
TZOFFSETFROM:-0500
TZOFFSETTO:-0600
TZNAME:CST
DTSTART:20241103T070000
END:STANDARD
BEGIN:DAYLIGHT
TZOFFSETFROM:-0600
TZOFFSETTO:-0500
TZNAME:CDT
DTSTART:20250309T080000
END:DAYLIGHT
BEGIN:STANDARD
TZOFFSETFROM:-0500
TZOFFSETTO:-0600
TZNAME:CST
DTSTART:20251102T070000
END:STANDARD
BEGIN:DAYLIGHT
TZOFFSETFROM:-0600
TZOFFSETTO:-0500
TZNAME:CDT
DTSTART:20260308T080000
END:DAYLIGHT
BEGIN:STANDARD
TZOFFSETFROM:-0500
TZOFFSETTO:-0600
TZNAME:CST
DTSTART:20261101T070000
END:STANDARD
END:VTIMEZONE
BEGIN:VEVENT
DTSTART;TZID=America/Chicago:20251025T200000
DTEND;TZID=America/Chicago:20251025T210000
DTSTAMP:20260425T161428
CREATED:20251014T100410Z
LAST-MODIFIED:20251014T100412Z
UID:10003477-1761422400-1761426000@www.texasforestcountryliving.com
SUMMARY:Halloween Bash at Lost Frontier (Sabine County)
DESCRIPTION:Get ready\, because our local favorites Next of Kin are back to rock the house with some of your favorite dancing songs\, including: \n\n\n\nFireball Whiskey (their original hit!) • Mathilda • Hello Josephine • Marie Laveau • Never Been to Spain • Bony Marony • Don’t Mess with My Toot Toot • Twist • Let It Rock \n\n\n\nIf you’ve been here in the past\, you know these guys bring the good times and keep the dance floor full!  \n\n\n\nCostume Contest: Your mission—outdress our servers (and that’s no easy task\, because they come dressed to the T every year. \n\n\n\nDrink Specials: Including our seasonal Drunken Pumpkin Martini + more wicked cocktails! \n\n\n\nBring your friends\, your best costume\, and your dancing shoes because this is one Halloween night you don’t want to miss at Lost Frontier! $5 cover charge at the restaurant!
URL:https://www.texasforestcountryliving.com/event/halloween-bash-at-lost-frontier-sabine-county/
LOCATION:360 Frontier Dr.\, Hemphill\, TX 75948
CATEGORIES:Halloween,Sabine County
ATTACH;FMTTYPE=image/jpeg:https://www.texasforestcountryliving.com/wp-content/uploads/2025/10/558099053_777078841756089_5508095942582916711_n.jpg
END:VEVENT
BEGIN:VEVENT
DTSTART;TZID=America/Chicago:20231027T160000
DTEND;TZID=America/Chicago:20231027T190000
DTSTAMP:20260425T161428
CREATED:20230908T134054Z
LAST-MODIFIED:20230908T134054Z
UID:10002227-1698422400-1698433200@www.texasforestcountryliving.com
SUMMARY:Halloween Boo Bash on the Plaza (Angelina County)
DESCRIPTION:As October closes in\, we are finalizing our Halloween Boo Bash on the Plaza. \nWe at Visit Lufkin want you to participate! \nLast year we could not hold the Boo Bash due to poor weather conditions; however\, we anticipate a fantastic event this year.\nVendor spaces are still available for your business and/or organization to set up your Trick or Treat booth. \nPlease provide your own table\, chair\, candy\, Etc. \nJoin us on October 27th from 4:00 PM – 7:00 PM for a spook-tacular evening.
URL:https://www.texasforestcountryliving.com/event/halloween-boo-bash-on-the-plaza-angelina-county/
LOCATION:Lufkin Plaza
CATEGORIES:Angelina County,Halloween
ATTACH;FMTTYPE=image/png:https://www.texasforestcountryliving.com/wp-content/uploads/2023/09/BOO-BASH-Facebook-Post.png
END:VEVENT
BEGIN:VEVENT
DTSTART;TZID=America/Chicago:20221031T150000
DTEND;TZID=America/Chicago:20221031T170000
DTSTAMP:20260425T161428
CREATED:20220926T155511Z
LAST-MODIFIED:20220926T155511Z
UID:10000090-1667228400-1667235600@www.texasforestcountryliving.com
SUMMARY:Drive Thru Trick-or-Treat
DESCRIPTION:Come by the City of Hudson on October 31\, 2022 for our annual drive thru trick-or-treat 3pm-5pm\n 
URL:https://www.texasforestcountryliving.com/event/drive-thru-trick-or-treat/
LOCATION:Hudson City Hall\, 3458 Ted Trout Drive\, Hudson\, TX\, 75904\, United States
CATEGORIES:Angelina County,Halloween
ATTACH;FMTTYPE=image/jpeg:https://www.texasforestcountryliving.com/wp-content/uploads/2022/09/drive-thru-trick-or-treat.jpg
END:VEVENT
BEGIN:VEVENT
DTSTART;TZID=America/Chicago:20221030T173000
DTEND;TZID=America/Chicago:20221030T193000
DTSTAMP:20260425T161428
CREATED:20220926T160815Z
LAST-MODIFIED:20220926T160815Z
UID:10000092-1667151000-1667158200@www.texasforestcountryliving.com
SUMMARY:Trunk Or Treat
DESCRIPTION:Come on out to our Trunk or Treat church event on October 30\, 2022\, from 5:00 pm-7:30 pm!
URL:https://www.texasforestcountryliving.com/event/trunk-or-treat/
LOCATION:chestnut babtist church\, 1701 S Chestnut St\, Lufkin\, TX\, 75901\, United States
CATEGORIES:Angelina County,Halloween
ATTACH;FMTTYPE=image/webp:https://www.texasforestcountryliving.com/wp-content/uploads/2022/09/trunk-ot-treat-2022.webp
END:VEVENT
BEGIN:VEVENT
DTSTART;TZID=America/Chicago:20221028T190000
DTEND;TZID=America/Chicago:20221029T220000
DTSTAMP:20260425T161428
CREATED:20220926T173232Z
LAST-MODIFIED:20220926T173232Z
UID:10000176-1666983600-1667080800@www.texasforestcountryliving.com
SUMMARY:Terror in Transylvania
DESCRIPTION:Join us for an evening of spooky fun…and M**der! M**der Mystery guests must arrive between 7 & 7:30 p.m. Appetizers and a Halloween-inspired dinner will be served. Please RSVP as quickly as possible so we can assign characters. There is both a Friday AND a Saturday night event. Please make sure to select the proper date when purchasing your tickets. \nAll of the underworld is invited to Dracula’s birthday celebration. As the members of the haunting and haunted gather at the desolate Transylvania castle\, this will be an evening away from mortals where the supernatural community can come together to celebrate and carouse! \nDuring the night of spooktacular fun\, one of the party-goers will end up in a grave they have dug for themselves. Desperate to avoid becoming victims themselves\, the ghoulish guests will seek out the culprit in their midst. \nPerhaps the murderer will be the bewitching witch with a cross to bear? A mollified mummy who needs to keep things under wraps? Or possibly a vindictive vampiress who was once bitten twice shy? \nWhat lies ahead is a hauntingly complex night during which the spooky and the spirited collide to solve a mystery designed that will leave you spellbound. It’s enough to have a skeleton shaking in their bones!!
URL:https://www.texasforestcountryliving.com/event/terror-in-transylvania/
LOCATION:Stone House Venue\, 312 East Main Street\, Nacogdoches\, TX\, 75961\, United States
CATEGORIES:Halloween,Nacogdoches County
ATTACH;FMTTYPE=image/png:https://www.texasforestcountryliving.com/wp-content/uploads/2022/09/trans.png
END:VEVENT
BEGIN:VEVENT
DTSTART;TZID=America/Chicago:20221022T100000
DTEND;TZID=America/Chicago:20221031T170000
DTSTAMP:20260425T161428
CREATED:20220926T154356Z
LAST-MODIFIED:20220926T154356Z
UID:10000089-1666432800-1667235600@www.texasforestcountryliving.com
SUMMARY:I-Spy Halloween Trail
DESCRIPTION:The museum will have its I-Spy Halloween Trail again this year. Families are invited to hunt for Halloween characters and win fun prizes!
URL:https://www.texasforestcountryliving.com/event/i-spy-halloween-trail/
LOCATION:Texas Forestry Museum\, 1905 Atkinson Dr. \, Lufkin\, TX\, 75901\, United States
CATEGORIES:Angelina County,Halloween
ATTACH;FMTTYPE=image/jpeg:https://www.texasforestcountryliving.com/wp-content/uploads/2022/09/Halloween-trail.jpg
ORGANIZER;CN="Texas Forestry Museum":MAILTO:info@treetexas.com
END:VEVENT
END:VCALENDAR