BEGIN:VCALENDAR
VERSION:2.0
PRODID:-//Texas Forest Country Living - ECPv6.15.20//NONSGML v1.0//EN
CALSCALE:GREGORIAN
METHOD:PUBLISH
X-ORIGINAL-URL:https://www.texasforestcountryliving.com
X-WR-CALDESC:Events for Texas Forest Country Living
REFRESH-INTERVAL;VALUE=DURATION:PT1H
X-Robots-Tag:noindex
X-PUBLISHED-TTL:PT1H
BEGIN:VTIMEZONE
TZID:America/Chicago
BEGIN:DAYLIGHT
TZOFFSETFROM:-0600
TZOFFSETTO:-0500
TZNAME:CDT
DTSTART:20230312T080000
END:DAYLIGHT
BEGIN:STANDARD
TZOFFSETFROM:-0500
TZOFFSETTO:-0600
TZNAME:CST
DTSTART:20231105T070000
END:STANDARD
BEGIN:DAYLIGHT
TZOFFSETFROM:-0600
TZOFFSETTO:-0500
TZNAME:CDT
DTSTART:20240310T080000
END:DAYLIGHT
BEGIN:STANDARD
TZOFFSETFROM:-0500
TZOFFSETTO:-0600
TZNAME:CST
DTSTART:20241103T070000
END:STANDARD
BEGIN:DAYLIGHT
TZOFFSETFROM:-0600
TZOFFSETTO:-0500
TZNAME:CDT
DTSTART:20250309T080000
END:DAYLIGHT
BEGIN:STANDARD
TZOFFSETFROM:-0500
TZOFFSETTO:-0600
TZNAME:CST
DTSTART:20251102T070000
END:STANDARD
END:VTIMEZONE
BEGIN:VEVENT
DTSTART;TZID=America/Chicago:20240612T120000
DTEND;TZID=America/Chicago:20240612T150000
DTSTAMP:20260423T210100
CREATED:20240603T183358Z
LAST-MODIFIED:20240603T183412Z
UID:10002980-1718193600-1718204400@www.texasforestcountryliving.com
SUMMARY:2024 Scholarship Awards Luncheon (Houston County)
DESCRIPTION:Join Us for the 2024 Scholarship Awards Luncheon! \nThe Crockett Area Chamber of Commerce is excited to announce the 2024 Scholarship Awards Luncheon! We are honored to celebrate the remarkable achievements of our scholarship recipients: \n\n\n Alexis Bodden\, Lovelady High School Alexander Burk\, Latexo High School Asad Mohammed\, Latexo High School Joseph Tuggle\, Crockett High School \n\n\n Date: Wednesday\, June 12\, 2024 Time: 12:00 p.m. Location: Lobby of the Crockett Civic Center\, 1100 Edmiston Dr.\, Crockett\, TX Tickets: $10 each \n\n\nCome join us in honoring these exceptional students and their hard work. Your presence and support mean the world to our community! \n\nFor tickets and more information\, please contact the Crockett Area Chamber of Commerce.\n\nPlease let us know if you’re interested in coming by RSVPing to THIS event on Facebook so we can better accommodate! \n\n#ScholarshipAwards #CACC #CommunityEvent #SupportingEducation
URL:https://www.texasforestcountryliving.com/event/2024-scholarship-awards-luncheon-houston-county/
LOCATION:Lobby of the Crockett Civic Center\, 1100 Edmiston Dr.\, Crockett\, TX
CATEGORIES:Houston County
ATTACH;FMTTYPE=image/jpeg:https://www.texasforestcountryliving.com/wp-content/uploads/2024/06/447297753_857918536380836_8145862349193209866_n.jpg
END:VEVENT
BEGIN:VEVENT
DTSTART;TZID=America/Chicago:20240620T093000
DTEND;TZID=America/Chicago:20240620T110000
DTSTAMP:20260423T210100
CREATED:20240610T174252Z
LAST-MODIFIED:20240610T174252Z
UID:10002985-1718875800-1718881200@www.texasforestcountryliving.com
SUMMARY:Mid Morning Coffee (Houston County)
DESCRIPTION:Join us for our next Mid-Morning Coffee gathering hosted by Maestro’s Grooming Speakeasy!\n\n\n Date: 6/20/24 Time: 9:30 a.m. Location: Maestro’s Grooming Speakeasy\, 208 Goliad Ave. Crockett\, TX \n\nConnect with fellow business owners and professionals over a cup of coffee and engaging conversations. Whether you’re a seasoned entrepreneur or just starting out\, this is the perfect opportunity to network and build meaningful connections within the Crockett business community. \n\nDon’t miss out on this fantastic chance to expand your network and discover what’s happening in the Crockett Area business community! See you there!
URL:https://www.texasforestcountryliving.com/event/mid-morning-coffee-houston-county/
LOCATION:Maestro’s Grooming Speakeasy\, 208 Goliad Ave. Crockett\, TX
CATEGORIES:Houston County
ATTACH;FMTTYPE=image/jpeg:https://www.texasforestcountryliving.com/wp-content/uploads/2024/06/440249209_848293550676668_390156860173519765_n.jpg
END:VEVENT
BEGIN:VEVENT
DTSTART;TZID=America/Chicago:20240629T170000
DTEND;TZID=America/Chicago:20240629T190000
DTSTAMP:20260423T210100
CREATED:20240524T155852Z
LAST-MODIFIED:20240524T155852Z
UID:10002978-1719680400-1719687600@www.texasforestcountryliving.com
SUMMARY:Freedom Over Crockett (Houston County)
DESCRIPTION:Join us for “Freedom Over Crockett” – Our Independence Day Celebration\, brought to you by the Crockett Area Chamber of Commerce and the City of Crockett.\n\nGet ready to experience a day filled with fun and patriotic spirit as we celebrate our nation’s freedom in the heart of Crockett! Mark your calendars and join us for an unforgettable event!\n\nEvents within the event (registration links at the bottom):\n\nParade: The festivities kick off with a patriotic parade starting from downtown Crockett and ending at the historic Davy Crockett Memorial Park. 1st\, 2nd\, and 3rd place prizes will be awarded to winners of the children’s Bicycle Decorating Contest. Parade Floats will also be competing with one another! This year’s categories for the Parade Float Contest are as follows: Most Patriotic\, Most Creative\, Best Motorcycle\, and Grand Champion (overall best float)!\nBe part of the spectacle or cheer along the route!\n\nHomemade Pie/Ice Cream Competition: Whether you’re a seasoned baker or a novice churner\, this is your chance to showcase your skills and indulge in a friendly competition. This year’s categories are Homemade Pie and Homemade Ice Cream. Let your taste buds rejoice!\nDessert entries will be made available for purchase after the judging.\n\nFIREWORKS: Get ready to light up the sky! The dazzling fireworks display will kick off at sunset\, promising a spectacle that’s bigger and brighter than ever before. Last year’s show left everyone in awe\, and this year\, we’re raising the bar even higher. Don’t miss out!\nBring your lawn chairs\, carve out a piece of grass\, and enjoy the celebration of our nation’s birth!\n\nDate/Time Information:\nJune 29\, 2024\, at 5 pm\n\nRegistration Links:\n\nChildren’s Bicycle Decorating Contest:https://form.jotform.com/241335098807158\n\nParade Float Registration:https://form.jotform.com/241375016210140\n\nHomemade Dessert Registration:https://form.jotform.com/241375364891161\n\nVendor Booth Registration:https://form.jotform.com/241425411103136
URL:https://www.texasforestcountryliving.com/event/freedom-over-crockett-houston-county/
LOCATION:Davy Crockett Memorial Park\, 617 Wells Street Crockett TX\, Crockett\, TX\, 75835\, United States
CATEGORIES:Houston County
ATTACH;FMTTYPE=image/jpeg:https://www.texasforestcountryliving.com/wp-content/uploads/2024/05/444990692_852320110274012_5481488676286820538_n.jpg
END:VEVENT
END:VCALENDAR