BEGIN:VCALENDAR
VERSION:2.0
PRODID:-//Texas Forest Country Living - ECPv6.15.20//NONSGML v1.0//EN
CALSCALE:GREGORIAN
METHOD:PUBLISH
X-WR-CALNAME:Texas Forest Country Living
X-ORIGINAL-URL:https://www.texasforestcountryliving.com
X-WR-CALDESC:Events for Texas Forest Country Living
REFRESH-INTERVAL;VALUE=DURATION:PT1H
X-Robots-Tag:noindex
X-PUBLISHED-TTL:PT1H
BEGIN:VTIMEZONE
TZID:America/Chicago
BEGIN:DAYLIGHT
TZOFFSETFROM:-0600
TZOFFSETTO:-0500
TZNAME:CDT
DTSTART:20230312T080000
END:DAYLIGHT
BEGIN:STANDARD
TZOFFSETFROM:-0500
TZOFFSETTO:-0600
TZNAME:CST
DTSTART:20231105T070000
END:STANDARD
BEGIN:DAYLIGHT
TZOFFSETFROM:-0600
TZOFFSETTO:-0500
TZNAME:CDT
DTSTART:20240310T080000
END:DAYLIGHT
BEGIN:STANDARD
TZOFFSETFROM:-0500
TZOFFSETTO:-0600
TZNAME:CST
DTSTART:20241103T070000
END:STANDARD
BEGIN:DAYLIGHT
TZOFFSETFROM:-0600
TZOFFSETTO:-0500
TZNAME:CDT
DTSTART:20250309T080000
END:DAYLIGHT
BEGIN:STANDARD
TZOFFSETFROM:-0500
TZOFFSETTO:-0600
TZNAME:CST
DTSTART:20251102T070000
END:STANDARD
END:VTIMEZONE
BEGIN:VEVENT
DTSTART;TZID=America/Chicago:20240817T193000
DTEND;TZID=America/Chicago:20240817T220000
DTSTAMP:20260423T153945
CREATED:20240816T143602Z
LAST-MODIFIED:20240816T143602Z
UID:10003043-1723923000-1723932000@www.texasforestcountryliving.com
SUMMARY:Karaoke Night (Houston County)
DESCRIPTION:KARAOKE IS BACK!!! We want to hear your vocal talent!!! Grab your friends and make some memories together! \nKaraoke starts at 7:30 pm on Saturday\, August 17th with our host Eric Krug! \nDinner starts at 6 pm\, dinner reservations are recommended! 936-636-9267 \nWhen:\n\nSaturday\, August 17\, 2024\, 7:30 PM \n\n\nWhere: \n720 Commerce st\nLovelady\, TX \n\n\nFor More Info: \n936-636-9277\nhttps://www.facebook.com/share/Dp7Q9Mn4pdUeMbx3/
URL:https://www.texasforestcountryliving.com/event/karaoke-night-houston-county/
LOCATION:Stesti Beer Garden
CATEGORIES:Houston County
ATTACH;FMTTYPE=image/jpeg:https://www.texasforestcountryliving.com/wp-content/uploads/2024/08/event.jpg
END:VEVENT
END:VCALENDAR