BEGIN:VCALENDAR
VERSION:2.0
PRODID:-//Texas Forest Country Living - ECPv6.15.20//NONSGML v1.0//EN
CALSCALE:GREGORIAN
METHOD:PUBLISH
X-WR-CALNAME:Texas Forest Country Living
X-ORIGINAL-URL:https://www.texasforestcountryliving.com
X-WR-CALDESC:Events for Texas Forest Country Living
REFRESH-INTERVAL;VALUE=DURATION:PT1H
X-Robots-Tag:noindex
X-PUBLISHED-TTL:PT1H
BEGIN:VTIMEZONE
TZID:America/Chicago
BEGIN:DAYLIGHT
TZOFFSETFROM:-0600
TZOFFSETTO:-0500
TZNAME:CDT
DTSTART:20230312T080000
END:DAYLIGHT
BEGIN:STANDARD
TZOFFSETFROM:-0500
TZOFFSETTO:-0600
TZNAME:CST
DTSTART:20231105T070000
END:STANDARD
BEGIN:DAYLIGHT
TZOFFSETFROM:-0600
TZOFFSETTO:-0500
TZNAME:CDT
DTSTART:20240310T080000
END:DAYLIGHT
BEGIN:STANDARD
TZOFFSETFROM:-0500
TZOFFSETTO:-0600
TZNAME:CST
DTSTART:20241103T070000
END:STANDARD
BEGIN:DAYLIGHT
TZOFFSETFROM:-0600
TZOFFSETTO:-0500
TZNAME:CDT
DTSTART:20250309T080000
END:DAYLIGHT
BEGIN:STANDARD
TZOFFSETFROM:-0500
TZOFFSETTO:-0600
TZNAME:CST
DTSTART:20251102T070000
END:STANDARD
END:VTIMEZONE
BEGIN:VEVENT
DTSTART;TZID=America/Chicago:20240926T180000
DTEND;TZID=America/Chicago:20240926T203000
DTSTAMP:20260423T041027
CREATED:20240924T122915Z
LAST-MODIFIED:20240924T122915Z
UID:10003059-1727373600-1727382600@www.texasforestcountryliving.com
SUMMARY:Stesti Benefit Bingo Night (Houston County)
DESCRIPTION:Join us for weekly Bingo every Thursday at Stesti Beer Garden! This month’s charity is Mickey’s House in Trinity! \nDoors open – 4:00 p.m.\nGames start – 6:00 p.m. \nWhen: \nThursday\, September 26\, 2024\, 6:00 PM\n\nWhere: \n720 Commerce Street\nLovelady\, TX\n\nFor More Info: \n936-636-9267\nstestibrewingcompany@gmail.com\nhttps://www.facebook.com/share/p/khLQ7rwm2iVSN6cz/
URL:https://www.texasforestcountryliving.com/event/stesti-benefit-bingo-night-houston-county/
LOCATION:720 Commerce Street Lovelady\, TX
CATEGORIES:Houston County
ATTACH;FMTTYPE=image/jpeg:https://www.texasforestcountryliving.com/wp-content/uploads/2024/09/event.jpg
END:VEVENT
END:VCALENDAR