BEGIN:VCALENDAR
VERSION:2.0
PRODID:-//Texas Forest Country Living - ECPv6.15.20//NONSGML v1.0//EN
CALSCALE:GREGORIAN
METHOD:PUBLISH
X-WR-CALNAME:Texas Forest Country Living
X-ORIGINAL-URL:https://www.texasforestcountryliving.com
X-WR-CALDESC:Events for Texas Forest Country Living
REFRESH-INTERVAL;VALUE=DURATION:PT1H
X-Robots-Tag:noindex
X-PUBLISHED-TTL:PT1H
BEGIN:VTIMEZONE
TZID:America/Chicago
BEGIN:DAYLIGHT
TZOFFSETFROM:-0600
TZOFFSETTO:-0500
TZNAME:CDT
DTSTART:20230312T080000
END:DAYLIGHT
BEGIN:STANDARD
TZOFFSETFROM:-0500
TZOFFSETTO:-0600
TZNAME:CST
DTSTART:20231105T070000
END:STANDARD
BEGIN:DAYLIGHT
TZOFFSETFROM:-0600
TZOFFSETTO:-0500
TZNAME:CDT
DTSTART:20240310T080000
END:DAYLIGHT
BEGIN:STANDARD
TZOFFSETFROM:-0500
TZOFFSETTO:-0600
TZNAME:CST
DTSTART:20241103T070000
END:STANDARD
BEGIN:DAYLIGHT
TZOFFSETFROM:-0600
TZOFFSETTO:-0500
TZNAME:CDT
DTSTART:20250309T080000
END:DAYLIGHT
BEGIN:STANDARD
TZOFFSETFROM:-0500
TZOFFSETTO:-0600
TZNAME:CST
DTSTART:20251102T070000
END:STANDARD
END:VTIMEZONE
BEGIN:VEVENT
DTSTART;TZID=America/Chicago:20241122T193000
DTEND;TZID=America/Chicago:20241122T210000
DTSTAMP:20260419T121108
CREATED:20241121T131557Z
LAST-MODIFIED:20241121T131714Z
UID:10003101-1732303800-1732309200@www.texasforestcountryliving.com
SUMMARY:The Bacon Brothers with Kevin Bacon (Houston County)
DESCRIPTION:Coming Next!!!\nTHE BACON BROTHERS! with KEVIN BACON\n\n\nThe night before Christmas on the Square in Crockett!\nNovember 22\, 2024\, 7:30 pm\nCrockett Civic Center\n\n\nTICKETS STILL AVAILABLE\n\nwww.pwfaa.org \nThe Bacon Brothers have spent the better part of three decades exploring their own mix of folk\, rock\, soul\, and country music. They call that diverse sound “forosoco\,” and it’s taken them around the world\, from headlining gigs in Japan to American performances at iconic venues like Carnegie Hall\, the Grand Ole Opry\, and Gruene Hall. \n\n\n\nThe exploration continues with the band’s twelfth release\, Ballad Of The Brothers. It’s a record that highlights not only the similarities between Kevin Bacon (known worldwide as an A-list Hollywood actor) and Michael Bacon (celebrated as an Emmy-winning composer)\, but the differences\, too. The two siblings may be bound together by blood and a mutual love of American roots music\, but they’ve grown into sharp songwriters and cinematic storytellers with their own distinct approaches. Ballad Of The Brothers makes room for both of those approaches\, offering a mix of edgy alt-rock (“Take Off This Tattoo”)\, Motown-inspired soul (“Put Your Hand Up”)\, fingerpicked folk (“Let That Be Enough”)\, and everything in between. The album also marks the continuation of a musical partnership that began long ago in Philadelphia\, where the Bacons were raised on a soundtrack of 1970s singer/songwriters\, Philly soul bands\, and classic rock acts. Multiple decades and countless shows later\, they’re creating their own soundtrack\, saluting their old-school influences while making music that’s undeniably modern.
URL:https://www.texasforestcountryliving.com/event/the-bacon-brothers-with-kevin-bacon-houston-county/
LOCATION:Crockett Civic Center
CATEGORIES:Houston County
ATTACH;FMTTYPE=image/jpeg:https://www.texasforestcountryliving.com/wp-content/uploads/2024/11/465887344_1102281748566612_119740405636467373_n.jpg
END:VEVENT
END:VCALENDAR