BEGIN:VCALENDAR
VERSION:2.0
PRODID:-//Texas Forest Country Living - ECPv6.15.20//NONSGML v1.0//EN
CALSCALE:GREGORIAN
METHOD:PUBLISH
X-WR-CALNAME:Texas Forest Country Living
X-ORIGINAL-URL:https://www.texasforestcountryliving.com
X-WR-CALDESC:Events for Texas Forest Country Living
REFRESH-INTERVAL;VALUE=DURATION:PT1H
X-Robots-Tag:noindex
X-PUBLISHED-TTL:PT1H
BEGIN:VTIMEZONE
TZID:America/Chicago
BEGIN:DAYLIGHT
TZOFFSETFROM:-0600
TZOFFSETTO:-0500
TZNAME:CDT
DTSTART:20240310T080000
END:DAYLIGHT
BEGIN:STANDARD
TZOFFSETFROM:-0500
TZOFFSETTO:-0600
TZNAME:CST
DTSTART:20241103T070000
END:STANDARD
BEGIN:DAYLIGHT
TZOFFSETFROM:-0600
TZOFFSETTO:-0500
TZNAME:CDT
DTSTART:20250309T080000
END:DAYLIGHT
BEGIN:STANDARD
TZOFFSETFROM:-0500
TZOFFSETTO:-0600
TZNAME:CST
DTSTART:20251102T070000
END:STANDARD
BEGIN:DAYLIGHT
TZOFFSETFROM:-0600
TZOFFSETTO:-0500
TZNAME:CDT
DTSTART:20260308T080000
END:DAYLIGHT
BEGIN:STANDARD
TZOFFSETFROM:-0500
TZOFFSETTO:-0600
TZNAME:CST
DTSTART:20261101T070000
END:STANDARD
END:VTIMEZONE
BEGIN:VEVENT
DTSTART;TZID=America/Chicago:20250115T090000
DTEND;TZID=America/Chicago:20250117T130000
DTSTAMP:20260419T140140
CREATED:20250110T123303Z
LAST-MODIFIED:20250110T123303Z
UID:10003123-1736931600-1737118800@www.texasforestcountryliving.com
SUMMARY:Abuse\, Human Trafficking\, & Mental Health Awareness\, Prevention\, and Reporting Workshops (Houston/Trinity County)
DESCRIPTION:Abuse\, Human Trafficking\, & Mental Health Awareness\, Prevention\, and Reporting WorkshopsThe purpose of this workshop is to raise awareness\, and provide tips for prevention and reporting and is hosted by SpeakTruth Global Outreach and sponsored by Kalin’s Center. Leanne Henson and Janet Napper are among the experts you will hear from on this important issue.$45 per session or all three sessions for $99.Lunch is included (Wednesday and Thursday).For tickets\, scan the QR code or visit: https://buy.stripe.com/7sI3de8xic9Y0rSaFq.Call (936) 931-7770 for more information.When:January 15th-17thWhere:SpeakTruth Global Headquarters502 E. Houston Avenue(former The Loft location)Crockett\, TX 75835
URL:https://www.texasforestcountryliving.com/event/abuse-human-trafficking-mental-health-awareness-prevention-and-reporting-workshops-houston-trinity-county/
LOCATION:SpeakTruth Global Headquarters
CATEGORIES:Houston County,Trinity County
ATTACH;FMTTYPE=image/jpeg:https://www.texasforestcountryliving.com/wp-content/uploads/2025/01/472712531_1011686131004075_5027604243063394585_n.jpg
END:VEVENT
BEGIN:VEVENT
DTSTART;TZID=America/Chicago:20250116T093000
DTEND;TZID=America/Chicago:20250116T103000
DTSTAMP:20260419T140140
CREATED:20250102T104440Z
LAST-MODIFIED:20250102T104440Z
UID:10003114-1737019800-1737023400@www.texasforestcountryliving.com
SUMMARY:Mid Morning Coffee at Mule Lip Tattoo (Houston County)
DESCRIPTION:Join us for our next Mid-Morning Coffee gathering hosted by Mule Lip Tattoo! \nConnect with fellow business owners and professionals over a cup of coffee and engaging conversations. Whether you’re a seasoned entrepreneur or just starting out\, this is the perfect opportunity to network and build meaningful connections within the Crockett business community. \nDon’t miss out on this fantastic chance to expand your network and discover what’s happening in the Crockett Area business community! \nSee you there! \nWhen:\nThursday\, January 16\, 2025\, 9:30 AM\nWhere: \nMule Lip Tattoo\n1016 E. Loop 304\nCrockett\, TX 75835
URL:https://www.texasforestcountryliving.com/event/mid-morning-coffee-at-mule-lip-tattoo-houston-county/
LOCATION:Mule Lip Tattoo 1016 E. Loop 304 Crockett\, TX 75835
CATEGORIES:Houston County
ATTACH;FMTTYPE=image/jpeg:https://www.texasforestcountryliving.com/wp-content/uploads/2025/01/event-1.jpg
END:VEVENT
END:VCALENDAR