BEGIN:VCALENDAR
VERSION:2.0
PRODID:-//Texas Forest Country Living - ECPv6.15.20//NONSGML v1.0//EN
CALSCALE:GREGORIAN
METHOD:PUBLISH
X-ORIGINAL-URL:https://www.texasforestcountryliving.com
X-WR-CALDESC:Events for Texas Forest Country Living
REFRESH-INTERVAL;VALUE=DURATION:PT1H
X-Robots-Tag:noindex
X-PUBLISHED-TTL:PT1H
BEGIN:VTIMEZONE
TZID:America/Chicago
BEGIN:DAYLIGHT
TZOFFSETFROM:-0600
TZOFFSETTO:-0500
TZNAME:CDT
DTSTART:20240310T080000
END:DAYLIGHT
BEGIN:STANDARD
TZOFFSETFROM:-0500
TZOFFSETTO:-0600
TZNAME:CST
DTSTART:20241103T070000
END:STANDARD
BEGIN:DAYLIGHT
TZOFFSETFROM:-0600
TZOFFSETTO:-0500
TZNAME:CDT
DTSTART:20250309T080000
END:DAYLIGHT
BEGIN:STANDARD
TZOFFSETFROM:-0500
TZOFFSETTO:-0600
TZNAME:CST
DTSTART:20251102T070000
END:STANDARD
BEGIN:DAYLIGHT
TZOFFSETFROM:-0600
TZOFFSETTO:-0500
TZNAME:CDT
DTSTART:20260308T080000
END:DAYLIGHT
BEGIN:STANDARD
TZOFFSETFROM:-0500
TZOFFSETTO:-0600
TZNAME:CST
DTSTART:20261101T070000
END:STANDARD
END:VTIMEZONE
BEGIN:VEVENT
DTSTART;TZID=America/Chicago:20250227T110000
DTEND;TZID=America/Chicago:20250227T120000
DTSTAMP:20260423T050838
CREATED:20250206T144005Z
LAST-MODIFIED:20250206T144005Z
UID:10003142-1740654000-1740657600@www.texasforestcountryliving.com
SUMMARY:Black History Month (Houston County)
DESCRIPTION:Join Commissioner Lesley Briones and #HCPrecinct4 as we honor Black history\, culture\, and contributions at our Black History Month Celebration! The event will include a panel discussion\, history exhibits\, and live music.Date/Time Information:\nThursday\, February 27 (11 a.m.) \nLocation:Higher Dimension Church\nRSVP REQUIRED AT: https://bit.ly/bhc-social
URL:https://www.texasforestcountryliving.com/event/black-history-month-houston-county/
LOCATION:Higher Dimension Church
CATEGORIES:Houston County
ATTACH;FMTTYPE=image/jpeg:https://www.texasforestcountryliving.com/wp-content/uploads/2025/02/476133835_944624664511582_2488728743382266211_n.jpg
END:VEVENT
BEGIN:VEVENT
DTSTART;TZID=America/Chicago:20250307T193000
DTEND;TZID=America/Chicago:20250307T213000
DTSTAMP:20260423T050838
CREATED:20250304T164903Z
LAST-MODIFIED:20250304T164903Z
UID:10003407-1741375800-1741383000@www.texasforestcountryliving.com
SUMMARY:Piney Woods Fine Arts Assoc. Presents Linda Davis (Houston County)
DESCRIPTION:When well-known Nashville singer-songwriters Linda Davis\, Lang Scott and Bill Whyte come together for an acoustic Evening in the Round\, audiences are in for a special treat—exceptional vocals and guitar on hits by today’s hottest artists\, engaging stories\, and plenty of down-home humor! \nLinda Davis\, three-time Grammy winner and Texas Country Hall of Fame member\, is a song stylist with a unique ability to interpret a song and one of Nashville’s favorite vocalists. She has made numerous appearances on Grand Ole Opry and toured with top artists like Reba McEntire and Kenny Rogers. \nLang Scott\, two-time Grammy winner\, is known for his amazing voice and guitar work with Nashville signature sound perfection. \nBill Whyte\, an award-winning Nashville radio personality\, writes and presents sometimes twisted but always hilarious songs. \n\nWhen: \nFriday\, March 7\, 2025 7:30 PM\n\n\nWhere: \n\nBear Hall\n229 E. Goliad Avenue\nCrockett\, TX  75835 \n\n\nFor More Info: \nAnn Walker\nCall the PWFAA Office at 936-544-4276\nann@pwfaa\,org\nwww.pwfaa.org
URL:https://www.texasforestcountryliving.com/event/piney-woods-fine-arts-assoc-presents-linda-davis-houston-county/
LOCATION:Bear Hall\, Crockett TX
CATEGORIES:Houston County
ATTACH;FMTTYPE=image/jpeg:https://www.texasforestcountryliving.com/wp-content/uploads/2025/03/event.jpg
END:VEVENT
BEGIN:VEVENT
DTSTART;TZID=America/Chicago:20250320T093000
DTEND;TZID=America/Chicago:20250320T113000
DTSTAMP:20260423T050838
CREATED:20250311T133855Z
LAST-MODIFIED:20250311T133855Z
UID:10003411-1742463000-1742470200@www.texasforestcountryliving.com
SUMMARY:Mid-Morning Coffee (Houston County)
DESCRIPTION:On Thursday\, March 20th\, join us for our next Mid-Morning Coffee!\nConnect with fellow business owners and professionals over a cup of coffee and engaging conversations. Whether you’re a seasoned entrepreneur or just starting out\, this is the perfect opportunity to network and build meaningful connections within the Crockett business community. \nDon’t miss out on this fantastic chance to expand your network and discover what’s happening in the Crockett Area business community! See you there! \nLocation:\nCrockett Springs Real Estate\n(inside Betty Boop’s)\n115 South 4th Street\nCrockett\, TX 75835 \nDate and Time:\nMarch 20\, 2025\n9:30 AM
URL:https://www.texasforestcountryliving.com/event/mid-morning-coffee-houston-county-3/
LOCATION:115 South 4th Street Crockett\, TX 75835
CATEGORIES:Houston County
ATTACH;FMTTYPE=image/jpeg:https://www.texasforestcountryliving.com/wp-content/uploads/2025/03/482250598_1055733963265958_409618039815539203_n.jpg
END:VEVENT
BEGIN:VEVENT
DTSTART;TZID=America/Chicago:20250426T100000
DTEND;TZID=America/Chicago:20250426T130000
DTSTAMP:20260423T050838
CREATED:20250423T155342Z
LAST-MODIFIED:20250423T155342Z
UID:10003426-1745661600-1745672400@www.texasforestcountryliving.com
SUMMARY:2025 Camp Street Blues (Houston County)
DESCRIPTION:This Saturday\, April 26th\, Downtown Crockett Association Presents the 2025 Camp Street Blues beginning at 10:00 am!Don’t miss this one-day only celebration of Blues\, Arts\, Food and more! Historic Camp Street in Crockett Texas comes alive again with rich music and art history. Bring your own lawn chair and set up on Camp Street park to listen to a lineup of local Texas musicians.Stroll through the walkable Artist Market\, celebrating small local visual artists. Grab a bite to eat at the food truck park.There’s something for everyone – kids can gain hands-on experience with art and music during free kids activities time.Grab your tickets at https://www.discovercrocketttx.com/…/camp-street-blues… today!Camp Street in Downtown Crockett\, TexasCrockett\, TX 75835
URL:https://www.texasforestcountryliving.com/event/2025-camp-street-blues-houston-county/
LOCATION:Camp Street in Downtown Crockett\, Texas Crockett\, TX 75835
CATEGORIES:Houston County
ATTACH;FMTTYPE=image/jpeg:https://www.texasforestcountryliving.com/wp-content/uploads/2025/04/492019649_1090789893093698_2408247761143053305_n.jpg
END:VEVENT
BEGIN:VEVENT
DTSTART;TZID=America/Chicago:20250704T190000
DTEND;TZID=America/Chicago:20250704T210000
DTSTAMP:20260423T050838
CREATED:20250619T151405Z
LAST-MODIFIED:20250619T151407Z
UID:10003433-1751655600-1751662800@www.texasforestcountryliving.com
SUMMARY:Freedom Over Crockett: Independence Day Celebration
DESCRIPTION:A Big THANK YOU to Our 4th of July Sponsors!  \n\n\n\nWe’re lighting up the sky thanks to the incredible support of our generous sponsors—this celebration wouldn’t be possible without you!  \n\n\n\nGet in on the fun! \n\n\n\nSign in today for our traditional homemade ice-cream contest: https://form.jotform.com/251665415918161 \n\n\n\nYes\, we are having our 4th of July Parade\, so have your business\, organization\, school\, church\, or just work friends together and be part of the party on wheels! https://forms.gle/efnhRpSPTw6bv5bX8 \n\n\n\nFree\, awards and our favorite colors on the road! \n\n\n\nTime to have your kid’s bicycle decorated! Meeting point will be at the Crockett Bank’s parking lot\, check the details out! https://form.jotform.com/251665606778167 \n\n\n\nAre you a vendor? Spots are still available—don’t miss the chance to be part of this exciting community event! \n\n\n\nSing up here to be a vendor: https://forms.gle/8nmgS9CdDVZerzzf8 \n\n\n\nStay tuned for the on-line Patriotic Store Front Decorating contest details! \n\n\n\nOnce again\, all this would not be possible without the generous support of our sponsors! \n\n\n\nSave the date\, bring your friends and family\, and let’s make this Independence Day one to remember! \n\n\n\nH-E-B Crockett Store \n\n\n\nJodi Graziani Jones and Bill Jones \n\n\n\nThe Messenger \n\n\n\nQuality tires & Brakes + wheels \n\n\n\nVelazquez Brother’s Construction \n\n\n\nLegacy Plaza \n\n\n\nA&A Texas Capital \n\n\n\nAmerican Legion Post 134 \n\n\n\nTex Fin \n\n\n\nKIVY Radio \n\n\n\nHoliday Inn Express Crockett \n\n\n\nWalmart Crockett \n\n\n\nDowntown Crockett Association \n\n\n\nDiscover Crockett Texas \n\n\n\nFirst National Bank of Huntsville- Crockett Branch \n\n\n\nChristie Johnson \n\n\n\nLos Ranchos Mexican Restaurant \n\n\n\nSouthland Federal Credit Union-Crockett Branch \n\n\n\nCrockett Oil and Lube \n\n\n\nBruner’s Economy Car Center \n\n\n\nCattleman’s Country Cafe \n\n\n\nBroughton & Sons Construction \n\n\n\nHouston County Electric Cooperative\, Inc. \n\n\n\nArvizu Landscape & Tree Service LLC \n\n\n\nMaestro’s Grooming Speakeasy \n\n\n\nAlex Cruz Lawn Services \n\n\n\nRTP Plant \n\n\n\nProsperity Bank \n\n\n\nCitizens National Bank-Crockett Branch \n\n\n\nAnchor Elastotech \n\n\n\n*Event supported with Houston County Hotel Occupancy Funds*
URL:https://www.texasforestcountryliving.com/event/freedom-over-crockett-independence-day-celebration/
LOCATION:Crockett Civic Center
CATEGORIES:Houston County
ATTACH;FMTTYPE=image/jpeg:https://www.texasforestcountryliving.com/wp-content/uploads/2025/06/506467995_1062912589307495_5153463804534441598_n.jpg
END:VEVENT
BEGIN:VEVENT
DTSTART;TZID=America/Chicago:20250920T080000
DTEND;TZID=America/Chicago:20250920T170000
DTSTAMP:20260423T050838
CREATED:20250819T130700Z
LAST-MODIFIED:20250819T130702Z
UID:10003459-1758355200-1758387600@www.texasforestcountryliving.com
SUMMARY:4th Annual Hispanic Heritage Day (Houston County)
DESCRIPTION:4th Annual Hispanic Heritage Day is hosting it’s first Youth Soccer Tournament! We are hoping this gets enough interest from neighboring cities and continues to grow in years to come. We invite you to gather up your teams and come join us for some competitive fun!  \n\n\n\nThe tournament will take place on Saturday\, September 20\, 2025. \n\n\n\nCrockett Civic Center field.Address: 1100 Edmiston Dr. Crockett\, TX 75835 \n\n\n\nAge Division: Born 2013/2014 \n\n\n\n This will be a one-day championship. Winners will be announced during the event. \n\n\n\nCall or text for more information.Judy\, 936-204-9872Noralva\, 936-204-6654 \n\n\n\nDon’t Miss Out! Limited Spots!Last day to register: Sept. 8\, 2025!! 
URL:https://www.texasforestcountryliving.com/event/4th-annual-hispanic-heritage-day-houston-county/
LOCATION:Crockett Civic Center
CATEGORIES:Houston County
ATTACH;FMTTYPE=image/jpeg:https://www.texasforestcountryliving.com/wp-content/uploads/2025/08/534307023_1181911440648209_7777214775305637017_n.jpg
END:VEVENT
BEGIN:VEVENT
DTSTART;TZID=America/Chicago:20251006T100000
DTEND;TZID=America/Chicago:20251006T120000
DTSTAMP:20260423T050838
CREATED:20251003T130000Z
LAST-MODIFIED:20251003T130011Z
UID:10003471-1759744800-1759752000@www.texasforestcountryliving.com
SUMMARY:Corrigan Location Quality Tires Ribbon Cutting Ceremony (Houston County)
DESCRIPTION:The Crockett Area Chamber will be hosting a Ribbon Cutting Ceremony for their new location in Corrigan! The Chamber staff will be in attendance and refreshments provided. \n\n\n\nQuality Tire & Brakes + Wheels400 N. Home St. Corrigan TX\, 75939Monday\, October 6\, 10 a.m.
URL:https://www.texasforestcountryliving.com/event/corrigan-location-quality-tires-ribbon-cutting-ceremony-houston-county/
CATEGORIES:Houston County
ATTACH;FMTTYPE=image/jpeg:https://www.texasforestcountryliving.com/wp-content/uploads/2025/10/556468906_1217773053728714_1218251995435299188_n.jpg
END:VEVENT
BEGIN:VEVENT
DTSTART;TZID=America/Chicago:20251023T080000
DTEND;TZID=America/Chicago:20251025T170000
DTSTAMP:20260423T050838
CREATED:20251010T120033Z
LAST-MODIFIED:20251010T120035Z
UID:10003475-1761206400-1761411600@www.texasforestcountryliving.com
SUMMARY:Bluegrass Festival (Houston County)
DESCRIPTION:Salmon Lake Park in Grapeland\, TX\, is home to the Annual Memorial Day Bluegrass Gospel Festival and the Annual Bluegrass Festival held the 4th weekend in October. \n\n\n\n 3 unforgettable days of live music\, jamming\, dancing\, and camping under the stars. \n\n\n\n Featuring a stacked lineup of award-winning bluegrass artists you won’t want to miss! \n\n\n\n Tap through to meet this year’s performers and grab your tickets before they’re gone! \n\n\n\n Grapeland\, TX @ Salmon Lake Park\, Texas \n\n\n\n October 23–25\, 2025 \n\n\n\n Tickets: slpbluegrass.com \n\n\n\n Let’s make memories that ring louder than a banjo string! 
URL:https://www.texasforestcountryliving.com/event/bluegrass-festival-houston-county/
LOCATION:Grapeland\, TX @ Salmon Lake Park Texas
CATEGORIES:Houston County
ATTACH;FMTTYPE=image/jpeg:https://www.texasforestcountryliving.com/wp-content/uploads/2025/10/559070440_1226969896142363_3211883206661860484_n.jpg
END:VEVENT
END:VCALENDAR