BEGIN:VCALENDAR
VERSION:2.0
PRODID:-//Texas Forest Country Living - ECPv6.15.20//NONSGML v1.0//EN
CALSCALE:GREGORIAN
METHOD:PUBLISH
X-ORIGINAL-URL:https://www.texasforestcountryliving.com
X-WR-CALDESC:Events for Texas Forest Country Living
REFRESH-INTERVAL;VALUE=DURATION:PT1H
X-Robots-Tag:noindex
X-PUBLISHED-TTL:PT1H
BEGIN:VTIMEZONE
TZID:America/Chicago
BEGIN:DAYLIGHT
TZOFFSETFROM:-0600
TZOFFSETTO:-0500
TZNAME:CDT
DTSTART:20210314T080000
END:DAYLIGHT
BEGIN:STANDARD
TZOFFSETFROM:-0500
TZOFFSETTO:-0600
TZNAME:CST
DTSTART:20211107T070000
END:STANDARD
BEGIN:DAYLIGHT
TZOFFSETFROM:-0600
TZOFFSETTO:-0500
TZNAME:CDT
DTSTART:20220313T080000
END:DAYLIGHT
BEGIN:STANDARD
TZOFFSETFROM:-0500
TZOFFSETTO:-0600
TZNAME:CST
DTSTART:20221106T070000
END:STANDARD
BEGIN:DAYLIGHT
TZOFFSETFROM:-0600
TZOFFSETTO:-0500
TZNAME:CDT
DTSTART:20230312T080000
END:DAYLIGHT
BEGIN:STANDARD
TZOFFSETFROM:-0500
TZOFFSETTO:-0600
TZNAME:CST
DTSTART:20231105T070000
END:STANDARD
END:VTIMEZONE
BEGIN:VEVENT
DTSTART;TZID=America/Chicago:20221001T100000
DTEND;TZID=America/Chicago:20221001T160000
DTSTAMP:20260424T165613
CREATED:20220926T183918Z
LAST-MODIFIED:20220926T183918Z
UID:10000183-1664618400-1664640000@www.texasforestcountryliving.com
SUMMARY:Fall Butterfly Festival
DESCRIPTION:Celebrate glorious Autumn in East Texas at the Jasper Lake Sam Rayburn Chamber of Commerce Fall Butterfly Festival! Join us at 350 Marvin Hancock Drive in beautiful Jasper\, Texas on October 1 for the 45th anniversary of this amazing festival. Arts\, crafts\, homemade jams\, jellies\, bread\, salsa\, all sorts of specialty booths\, kids activities galore\, and best of all…yummy festival food!! SNIPS Weenie Dog races held on-site!!\nLive band all day!\nCome join us for this fun-filled day!
URL:https://www.texasforestcountryliving.com/event/fall-butterfly-festival/
LOCATION:Sandy Creek Park\, Jasper\, TX\, United States
CATEGORIES:Jasper County
ATTACH;FMTTYPE=image/jpeg:https://www.texasforestcountryliving.com/wp-content/uploads/2022/09/OrangeMapleLeafFallFestivalPoster1.jpg
ORGANIZER;CN="Jasper-Lake Sam Rayburn Area Chamber of Commerce":MAILTO:jaspercc@jaspercoc.org
END:VEVENT
BEGIN:VEVENT
DTSTART;TZID=America/Chicago:20221017T080000
DTEND;TZID=America/Chicago:20221017T150000
DTSTAMP:20260424T165613
CREATED:20220814T200327Z
LAST-MODIFIED:20220814T201721Z
UID:10000157-1665993600-1666018800@www.texasforestcountryliving.com
SUMMARY:Texas Forest Country Partnership 2022 Economic Development Summit
DESCRIPTION:
URL:https://www.texasforestcountryliving.com/event/texas-forest-country-partnership-2022-economic-development-summit/
LOCATION:SFA Baker Patillo Student Center\, Grand Ballroom\, Nacogdoches\, TX\, 75962\, United States
CATEGORIES:Angelina County,Houston County,Jasper County,Nacogdoches County,Newton County,Panola County,Polk County,Sabine County,San Augustine County,San Jacinto County,Shelby County,Trinity County,Tyler County
END:VEVENT
BEGIN:VEVENT
DTSTART;TZID=America/Chicago:20221022T190000
DTEND;TZID=America/Chicago:20221022T223000
DTSTAMP:20260424T165613
CREATED:20220930T200853Z
LAST-MODIFIED:20220930T201104Z
UID:10000196-1666465200-1666477800@www.texasforestcountryliving.com
SUMMARY:Mystic Masquerade Ball (Jasper County)
DESCRIPTION:Tickets to the Mystic Masquerade Ball include dinner\, dancing\, and the opportunity for us to share the progress we’ve made through RHN\, our non-profit organization. \nThe Mystic Masquerade Ball is a FORMAL\, BLACK-TIE event requiring black tuxedos for men and long\, formal gowns or ball gowns for women. \nAs RHN works to garner support for our mission\, address the issue of homelessness in rural areas\, and bring awareness to local communities\, the Mystic Masquerade is our most important event of the year. We have limited seating\, and Masquerade Masks (not COVID masks) are required as we set the evening’s tone by the following assertion: \n“Behind every mask there is a face\, and behind that\, a story …” \nThe homeless – especially those in rural areas – are largely masked from our view and our thoughts. Many were once filled with hope and promise\, only to be knocked down by tragedy\, discouragement\, or other negatives in life. Some were successful professionals\, some never had much of a chance; but all deserve the love of Christ. RHN will offer them hope and dignity\, beginning with Veterans Village\, a community of Tiny Homes for homeless Veterans\, and expanding with many other programs and projects to address homelessness and near-homelessness. \nMore information about the Mystic Masquerade Ball is included\, and we ask you to share the information with as many people as possible. Tickets are $100 each or you can reserve a private table of eight for your friends and family for $800. They can be purchased through our website\, www.rhnetwork.org\, as well as by calling the number at the bottom of the flyer. Your ticket ensures an unforgettable night of truly meaningful fun that will make a real difference in the lives of those most in need.
URL:https://www.texasforestcountryliving.com/event/mystic-masquerade-ball-jasper-county/
LOCATION:FUMC The Wesley Center\, 329 North Bowie Street\, Jasper\, 75951\, United States
CATEGORIES:Jasper County
ATTACH;FMTTYPE=image/jpeg:https://www.texasforestcountryliving.com/wp-content/uploads/2022/09/1a09148edef94f7fad8917c804f4082560c8c4d291047863157e54b9c024b388-rimg-w643-h849-gmir.jpg
ORGANIZER;CN="Rural Homeless Network":MAILTO:office@rhnetwork.org
END:VEVENT
BEGIN:VEVENT
DTSTART;TZID=America/Chicago:20221029T170000
DTEND;TZID=America/Chicago:20221029T190000
DTSTAMP:20260424T165613
CREATED:20220926T194654Z
LAST-MODIFIED:20220926T194752Z
UID:10000187-1667062800-1667070000@www.texasforestcountryliving.com
SUMMARY:City-Wide Trunk or Treat (Jasper County)
DESCRIPTION:Join the Chamber of Commerce for the 4th annual City-Wide Trunk or Treat! This event has been a huge success and we want to grow bigger and better! This is a drive-through event for your safety! \nBusinesses\, churches\, social organizations…sign up to hand out candy. Simply pull into a parking space\, decorate your trunk and have fun!!!
URL:https://www.texasforestcountryliving.com/event/city-wide-trunk-or-treat-jasper-county/
LOCATION:Bulldog Ave\, Jasper\, 450 Bulldog Ave\, Jasper\, TX\, 75951-4954\, United States
CATEGORIES:Jasper County
ATTACH;FMTTYPE=image/jpeg:https://www.texasforestcountryliving.com/wp-content/uploads/2022/09/18c111cf0e082b436811ce2e75b2350e163b879867d4226e7cef6a5f26537b21-rimg-w685-h960-gmir.jpg
ORGANIZER;CN="Jasper-Lake Sam Rayburn Area Chamber of Commerce":MAILTO:jaspercc@jaspercoc.org
END:VEVENT
END:VCALENDAR