BEGIN:VCALENDAR
VERSION:2.0
PRODID:-//Texas Forest Country Living - ECPv6.15.20//NONSGML v1.0//EN
CALSCALE:GREGORIAN
METHOD:PUBLISH
X-WR-CALNAME:Texas Forest Country Living
X-ORIGINAL-URL:https://www.texasforestcountryliving.com
X-WR-CALDESC:Events for Texas Forest Country Living
REFRESH-INTERVAL;VALUE=DURATION:PT1H
X-Robots-Tag:noindex
X-PUBLISHED-TTL:PT1H
BEGIN:VTIMEZONE
TZID:America/Chicago
BEGIN:DAYLIGHT
TZOFFSETFROM:-0600
TZOFFSETTO:-0500
TZNAME:CDT
DTSTART:20210314T080000
END:DAYLIGHT
BEGIN:STANDARD
TZOFFSETFROM:-0500
TZOFFSETTO:-0600
TZNAME:CST
DTSTART:20211107T070000
END:STANDARD
BEGIN:DAYLIGHT
TZOFFSETFROM:-0600
TZOFFSETTO:-0500
TZNAME:CDT
DTSTART:20220313T080000
END:DAYLIGHT
BEGIN:STANDARD
TZOFFSETFROM:-0500
TZOFFSETTO:-0600
TZNAME:CST
DTSTART:20221106T070000
END:STANDARD
BEGIN:DAYLIGHT
TZOFFSETFROM:-0600
TZOFFSETTO:-0500
TZNAME:CDT
DTSTART:20230312T080000
END:DAYLIGHT
BEGIN:STANDARD
TZOFFSETFROM:-0500
TZOFFSETTO:-0600
TZNAME:CST
DTSTART:20231105T070000
END:STANDARD
END:VTIMEZONE
BEGIN:VEVENT
DTSTART;TZID=America/Chicago:20220319T100000
DTEND;TZID=America/Chicago:20220319T160000
DTSTAMP:20260419T115902
CREATED:20220311T175517Z
LAST-MODIFIED:20220311T175517Z
UID:10000055-1647684000-1647705600@www.texasforestcountryliving.com
SUMMARY:Azalea Festival
DESCRIPTION:The Jasper Lake Sam Rayburn Chamber of Commerce is pleased to bring you the Annual Azalea Festival! Our festival will be held once again in the new Sandy Creek Park on Marvin Hancock Drive in Jasper\, Texas on March 19\, 2022. Applications are ready now. Vendors\, stop in and grab your application or email jaspercc@jaspercoc.org. \nImage from: https://jaspercoc.org/monthly-event-calendar/ 
URL:https://www.texasforestcountryliving.com/event/azalea-festival/
LOCATION:Sandy Creek Park\, Jasper\, TX\, United States
CATEGORIES:Jasper County
ATTACH;FMTTYPE=image/jpeg:https://www.texasforestcountryliving.com/wp-content/uploads/2022/03/ColorfulMusicalJazzInstrumentPoster.jpg
ORGANIZER;CN="City of Jasper":MAILTO:jaspercc@jaspercoc.org
END:VEVENT
END:VCALENDAR