BEGIN:VCALENDAR
VERSION:2.0
PRODID:-//Texas Forest Country Living - ECPv6.15.20//NONSGML v1.0//EN
CALSCALE:GREGORIAN
METHOD:PUBLISH
X-ORIGINAL-URL:https://www.texasforestcountryliving.com
X-WR-CALDESC:Events for Texas Forest Country Living
REFRESH-INTERVAL;VALUE=DURATION:PT1H
X-Robots-Tag:noindex
X-PUBLISHED-TTL:PT1H
BEGIN:VTIMEZONE
TZID:America/Chicago
BEGIN:DAYLIGHT
TZOFFSETFROM:-0600
TZOFFSETTO:-0500
TZNAME:CDT
DTSTART:20230312T080000
END:DAYLIGHT
BEGIN:STANDARD
TZOFFSETFROM:-0500
TZOFFSETTO:-0600
TZNAME:CST
DTSTART:20231105T070000
END:STANDARD
BEGIN:DAYLIGHT
TZOFFSETFROM:-0600
TZOFFSETTO:-0500
TZNAME:CDT
DTSTART:20240310T080000
END:DAYLIGHT
BEGIN:STANDARD
TZOFFSETFROM:-0500
TZOFFSETTO:-0600
TZNAME:CST
DTSTART:20241103T070000
END:STANDARD
BEGIN:DAYLIGHT
TZOFFSETFROM:-0600
TZOFFSETTO:-0500
TZNAME:CDT
DTSTART:20250309T080000
END:DAYLIGHT
BEGIN:STANDARD
TZOFFSETFROM:-0500
TZOFFSETTO:-0600
TZNAME:CST
DTSTART:20251102T070000
END:STANDARD
END:VTIMEZONE
BEGIN:VEVENT
DTSTART;TZID=America/Chicago:20240801T173000
DTEND;TZID=America/Chicago:20240801T183000
DTSTAMP:20260423T212959
CREATED:20240731T143530Z
LAST-MODIFIED:20240731T143530Z
UID:10003023-1722533400-1722537000@www.texasforestcountryliving.com
SUMMARY:Business After Hours Hosted by Axley & Rode\, LLP (Polk County)
DESCRIPTION:Date and Time Information:\nThursday\, Aug 1\, 2024\n5:30 PM – 6:30 PM CDT \nLocation:\nKathie’s Kitchen\n508 N Washington\nLivingston\, TX 77351 \nWebsite:\nThe Chamber \nContact Information:\n936.327.4929\nSend Email
URL:https://www.texasforestcountryliving.com/event/business-after-hours-hosted-by-axley-rode-llp-polk-county/
LOCATION:Katie’s Kitchen\, 508 N Washington\, Livingston TX
CATEGORIES:Polk County
ATTACH;FMTTYPE=image/png:https://www.texasforestcountryliving.com/wp-content/uploads/2024/07/06AxleyRodes.png
ORGANIZER;CN="Livingston-Polk County Chamber of Commerce":MAILTO:info@polkchamber.com
END:VEVENT
BEGIN:VEVENT
DTSTART;TZID=America/Chicago:20240806T080000
DTEND;TZID=America/Chicago:20240806T090000
DTSTAMP:20260423T212959
CREATED:20240731T145510Z
LAST-MODIFIED:20240731T145510Z
UID:10003024-1722931200-1722934800@www.texasforestcountryliving.com
SUMMARY:Power Hour with the Chamber (Polk County)
DESCRIPTION:Date and Time Information:\nTuesday\, Aug 6\, 2024\n8:00 AM – 9:00 AM CDT\n\n\nLocation:\nChick-fil-A\n1821 Hwy 190 W\nLivingston\, TX 77351\n\n\nFees/Admission:\nDutch\n\n\nWebsite:\nThe Chamber\n\n\nContact Information:\n936.327.4929\nSend Email
URL:https://www.texasforestcountryliving.com/event/power-hour-with-the-chamber-polk-county/
LOCATION:Chick-fil-A\, 1821 Hwy 190 W Livingston\, TX 77351
CATEGORIES:Polk County
ATTACH;FMTTYPE=image/jpeg:https://www.texasforestcountryliving.com/wp-content/uploads/2024/07/07August.jpg
ORGANIZER;CN="Livingston-Polk County Chamber of Commerce":MAILTO:info@polkchamber.com
END:VEVENT
BEGIN:VEVENT
DTSTART;TZID=America/Chicago:20240814T140000
DTEND;TZID=America/Chicago:20240814T150000
DTSTAMP:20260423T212959
CREATED:20240808T131559Z
LAST-MODIFIED:20240808T131559Z
UID:10003035-1723644000-1723647600@www.texasforestcountryliving.com
SUMMARY:Ribbon Cutting for Polk County College Center
DESCRIPTION:Date/Time Information:\nWednesday\, Aug 14\, 2024\n2:00 PM – 3:00 PM CDT \n\n\nLocation:\n1015 Hwy 59 Loop N\nLivingston\, TX 77351\n(214) 286-1299 \n\n\nWebsite:\nThe Chamber \n\n\nContact Information:\nContact 936.327.4929\nSend Email
URL:https://www.texasforestcountryliving.com/event/ribbon-cutting-for-polk-county-college-center/
LOCATION:1015 Hwy 59 Loop N Livingston\, TX 77351
CATEGORIES:Polk County
ATTACH;FMTTYPE=image/png:https://www.texasforestcountryliving.com/wp-content/uploads/2024/08/16Lamar.png
ORGANIZER;CN="Livingston-Polk County Chamber of Commerce":MAILTO:info@polkchamber.com
END:VEVENT
BEGIN:VEVENT
DTSTART;TZID=America/Chicago:20240815T173000
DTEND;TZID=America/Chicago:20240815T193000
DTSTAMP:20260423T212959
CREATED:20240814T133522Z
LAST-MODIFIED:20240814T133522Z
UID:10003040-1723743000-1723750200@www.texasforestcountryliving.com
SUMMARY:Women Interested in Networking Opportunities (Polk County)
DESCRIPTION:Date/Time Information:\nThursday\, Aug 15\, 2024\n5:30 PM – 7:30 PM CDT\n\nLocation:\nCountry Place Senior Living\n1860 N Washington\nLivingston\, TX 77351 \n\n\n\nWebsite:\nThe Chamber\n\n\nContact Information:\n936.327.4929\nSend Email
URL:https://www.texasforestcountryliving.com/event/women-interested-in-networking-opportunities-polk-county/
LOCATION:Country Place Senior Living
CATEGORIES:Polk County
ATTACH;FMTTYPE=image/png:https://www.texasforestcountryliving.com/wp-content/uploads/2024/08/04CountryPlace.png
ORGANIZER;CN="Livingston-Polk County Chamber of Commerce":MAILTO:info@polkchamber.com
END:VEVENT
END:VCALENDAR