BEGIN:VCALENDAR
VERSION:2.0
PRODID:-//Texas Forest Country Living - ECPv6.15.20//NONSGML v1.0//EN
CALSCALE:GREGORIAN
METHOD:PUBLISH
X-WR-CALNAME:Texas Forest Country Living
X-ORIGINAL-URL:https://www.texasforestcountryliving.com
X-WR-CALDESC:Events for Texas Forest Country Living
REFRESH-INTERVAL;VALUE=DURATION:PT1H
X-Robots-Tag:noindex
X-PUBLISHED-TTL:PT1H
BEGIN:VTIMEZONE
TZID:America/Chicago
BEGIN:DAYLIGHT
TZOFFSETFROM:-0600
TZOFFSETTO:-0500
TZNAME:CDT
DTSTART:20220313T080000
END:DAYLIGHT
BEGIN:STANDARD
TZOFFSETFROM:-0500
TZOFFSETTO:-0600
TZNAME:CST
DTSTART:20221106T070000
END:STANDARD
BEGIN:DAYLIGHT
TZOFFSETFROM:-0600
TZOFFSETTO:-0500
TZNAME:CDT
DTSTART:20230312T080000
END:DAYLIGHT
BEGIN:STANDARD
TZOFFSETFROM:-0500
TZOFFSETTO:-0600
TZNAME:CST
DTSTART:20231105T070000
END:STANDARD
BEGIN:DAYLIGHT
TZOFFSETFROM:-0600
TZOFFSETTO:-0500
TZNAME:CDT
DTSTART:20240310T080000
END:DAYLIGHT
BEGIN:STANDARD
TZOFFSETFROM:-0500
TZOFFSETTO:-0600
TZNAME:CST
DTSTART:20241103T070000
END:STANDARD
END:VTIMEZONE
BEGIN:VEVENT
DTSTART;TZID=America/Chicago:20231029T160000
DTEND;TZID=America/Chicago:20231029T180000
DTSTAMP:20260424T053401
CREATED:20231026T174141Z
LAST-MODIFIED:20231026T174141Z
UID:10002258-1698595200-1698602400@www.texasforestcountryliving.com
SUMMARY:Fall Festival at Central Baptist Church\, Livingston (Polk County)
DESCRIPTION:Date/Time Information:\nSunday\, October 29\, 4:00 – 6:00 pm \nLocation\nCentral Baptist Church\n503 N. East Avenue\nLivingston\, Texas 77351 \n\nFees/Admission\nEverything is FREE!\n\n\nWebsite\nhttps://www.centrallivingston.com\n\n\nContact Information\nPam McIntyre Ministry Assistant\nSend Email\n\nFree Fun for the whole family! There will be lots of decorated booths featuring games and activities with candy and prizes! \nSome of what you can expect:  games and activities\, food\, candy\, prizes\, bounce house\, hayride\, face painting\, live music and so much more.
URL:https://www.texasforestcountryliving.com/event/fall-festival-at-central-baptist-church-livingston-polk-county/
LOCATION:Central Baptist Church
CATEGORIES:Polk County
ATTACH;FMTTYPE=image/png:https://www.texasforestcountryliving.com/wp-content/uploads/2023/10/Fall_Festival_graphic_for_Chamber_of_Commerce_2023Websire.png
ORGANIZER;CN="Livingston-Polk County Chamber of Commerce":MAILTO:info@polkchamber.com
END:VEVENT
END:VCALENDAR