BEGIN:VCALENDAR
VERSION:2.0
PRODID:-//Texas Forest Country Living - ECPv6.15.20//NONSGML v1.0//EN
CALSCALE:GREGORIAN
METHOD:PUBLISH
X-WR-CALNAME:Texas Forest Country Living
X-ORIGINAL-URL:https://www.texasforestcountryliving.com
X-WR-CALDESC:Events for Texas Forest Country Living
REFRESH-INTERVAL;VALUE=DURATION:PT1H
X-Robots-Tag:noindex
X-PUBLISHED-TTL:PT1H
BEGIN:VTIMEZONE
TZID:America/Chicago
BEGIN:DAYLIGHT
TZOFFSETFROM:-0600
TZOFFSETTO:-0500
TZNAME:CDT
DTSTART:20220313T080000
END:DAYLIGHT
BEGIN:STANDARD
TZOFFSETFROM:-0500
TZOFFSETTO:-0600
TZNAME:CST
DTSTART:20221106T070000
END:STANDARD
BEGIN:DAYLIGHT
TZOFFSETFROM:-0600
TZOFFSETTO:-0500
TZNAME:CDT
DTSTART:20230312T080000
END:DAYLIGHT
BEGIN:STANDARD
TZOFFSETFROM:-0500
TZOFFSETTO:-0600
TZNAME:CST
DTSTART:20231105T070000
END:STANDARD
BEGIN:DAYLIGHT
TZOFFSETFROM:-0600
TZOFFSETTO:-0500
TZNAME:CDT
DTSTART:20240310T080000
END:DAYLIGHT
BEGIN:STANDARD
TZOFFSETFROM:-0500
TZOFFSETTO:-0600
TZNAME:CST
DTSTART:20241103T070000
END:STANDARD
END:VTIMEZONE
BEGIN:VEVENT
DTSTART;TZID=America/Chicago:20231031T113000
DTEND;TZID=America/Chicago:20231031T130000
DTSTAMP:20260423T103827
CREATED:20231030T100928Z
LAST-MODIFIED:20231030T100928Z
UID:10002259-1698751800-1698757200@www.texasforestcountryliving.com
SUMMARY:Quarterly Membership Luncheon (Polk County)
DESCRIPTION:Date and Time\nTuesday Oct 31\, 2023\n11:30 AM – 1:00 PM CDT\n\n\nLocation\nCho-Yeh Camp & Conference Center\n2200 S Washington\nLivingston\, TX 77351\n\n\nFees/Admission\n$20 for Members Presale\n$25 at the door & non-members\n\n\nWebsite\nThe Chamber\n\n\nContact Information\n936.327.4929\nSend Email
URL:https://www.texasforestcountryliving.com/event/quarterly-membership-luncheon-polk-county/
LOCATION:Cho-Yeh Camp & Conference Center
CATEGORIES:Polk County
ATTACH;FMTTYPE=image/png:https://www.texasforestcountryliving.com/wp-content/uploads/2023/10/03OctoberQML2023.png
ORGANIZER;CN="Livingston-Polk County Chamber of Commerce":MAILTO:info@polkchamber.com
END:VEVENT
END:VCALENDAR