BEGIN:VCALENDAR
VERSION:2.0
PRODID:-//Texas Forest Country Living - ECPv6.15.20//NONSGML v1.0//EN
CALSCALE:GREGORIAN
METHOD:PUBLISH
X-WR-CALNAME:Texas Forest Country Living
X-ORIGINAL-URL:https://www.texasforestcountryliving.com
X-WR-CALDESC:Events for Texas Forest Country Living
REFRESH-INTERVAL;VALUE=DURATION:PT1H
X-Robots-Tag:noindex
X-PUBLISHED-TTL:PT1H
BEGIN:VTIMEZONE
TZID:America/Chicago
BEGIN:DAYLIGHT
TZOFFSETFROM:-0600
TZOFFSETTO:-0500
TZNAME:CDT
DTSTART:20230312T080000
END:DAYLIGHT
BEGIN:STANDARD
TZOFFSETFROM:-0500
TZOFFSETTO:-0600
TZNAME:CST
DTSTART:20231105T070000
END:STANDARD
BEGIN:DAYLIGHT
TZOFFSETFROM:-0600
TZOFFSETTO:-0500
TZNAME:CDT
DTSTART:20240310T080000
END:DAYLIGHT
BEGIN:STANDARD
TZOFFSETFROM:-0500
TZOFFSETTO:-0600
TZNAME:CST
DTSTART:20241103T070000
END:STANDARD
BEGIN:DAYLIGHT
TZOFFSETFROM:-0600
TZOFFSETTO:-0500
TZNAME:CDT
DTSTART:20250309T080000
END:DAYLIGHT
BEGIN:STANDARD
TZOFFSETFROM:-0500
TZOFFSETTO:-0600
TZNAME:CST
DTSTART:20251102T070000
END:STANDARD
END:VTIMEZONE
BEGIN:VEVENT
DTSTART;TZID=America/Chicago:20240720T180000
DTEND;TZID=America/Chicago:20240720T210000
DTSTAMP:20260420T013251
CREATED:20240719T131920Z
LAST-MODIFIED:20240719T131920Z
UID:10003014-1721498400-1721509200@www.texasforestcountryliving.com
SUMMARY:Garth LaGrone (Polk County)
DESCRIPTION:Live Music at Swampers Icehouse! \nWe are excited to announce that the talented Garth LaGrone will be performing live at Swampers Icehouse!\n\n\nDate: July 20\n\n\nTime: 6:00 PM – 9:00 PM\n\n\n\nLocation: Swampers Icehouse\, 1581 Triple Creek Loop\, Livingston TX\n\n\nJoin us for an evening of fantastic music and great company!\n\n\nGarth LaGrone brings a unique sound and energy that will captivate you from the first note. His blend of country and rock is perfect for a summer evening out with friends and family.\n\n\n\nHighlights of the Evening:\n\n\nLive performance by Garth LaGrone\n\n\nDelicious food and refreshing drinks are available\n\n\nIncluded in your reservation at Two Creeks Crossing Resort\n\n\nIdeal for a relaxing and enjoyable night out\n\n\n Mark your calendars and don’t miss this incredible performance!\n\n\n#twocreekscrossingresort #swampersicehouse #livemusic #rvresortfun #easttexas #lakelivingston
URL:https://www.texasforestcountryliving.com/event/garth-lagrone-polk-county/
LOCATION:Swampers Icehouse\, 1581 Triple Creek Loop\, Livingston TX
CATEGORIES:Polk County
ATTACH;FMTTYPE=image/jpeg:https://www.texasforestcountryliving.com/wp-content/uploads/2024/07/451846931_472814808824709_5422379702318203707_n.jpg
END:VEVENT
END:VCALENDAR