BEGIN:VCALENDAR
VERSION:2.0
PRODID:-//Texas Forest Country Living - ECPv6.15.20//NONSGML v1.0//EN
CALSCALE:GREGORIAN
METHOD:PUBLISH
X-WR-CALNAME:Texas Forest Country Living
X-ORIGINAL-URL:https://www.texasforestcountryliving.com
X-WR-CALDESC:Events for Texas Forest Country Living
REFRESH-INTERVAL;VALUE=DURATION:PT1H
X-Robots-Tag:noindex
X-PUBLISHED-TTL:PT1H
BEGIN:VTIMEZONE
TZID:America/Chicago
BEGIN:DAYLIGHT
TZOFFSETFROM:-0600
TZOFFSETTO:-0500
TZNAME:CDT
DTSTART:20230312T080000
END:DAYLIGHT
BEGIN:STANDARD
TZOFFSETFROM:-0500
TZOFFSETTO:-0600
TZNAME:CST
DTSTART:20231105T070000
END:STANDARD
BEGIN:DAYLIGHT
TZOFFSETFROM:-0600
TZOFFSETTO:-0500
TZNAME:CDT
DTSTART:20240310T080000
END:DAYLIGHT
BEGIN:STANDARD
TZOFFSETFROM:-0500
TZOFFSETTO:-0600
TZNAME:CST
DTSTART:20241103T070000
END:STANDARD
BEGIN:DAYLIGHT
TZOFFSETFROM:-0600
TZOFFSETTO:-0500
TZNAME:CDT
DTSTART:20250309T080000
END:DAYLIGHT
BEGIN:STANDARD
TZOFFSETFROM:-0500
TZOFFSETTO:-0600
TZNAME:CST
DTSTART:20251102T070000
END:STANDARD
END:VTIMEZONE
BEGIN:VEVENT
DTSTART;TZID=America/Chicago:20240815T173000
DTEND;TZID=America/Chicago:20240815T193000
DTSTAMP:20260424T040220
CREATED:20240814T133522Z
LAST-MODIFIED:20240814T133522Z
UID:10003040-1723743000-1723750200@www.texasforestcountryliving.com
SUMMARY:Women Interested in Networking Opportunities (Polk County)
DESCRIPTION:Date/Time Information:\nThursday\, Aug 15\, 2024\n5:30 PM – 7:30 PM CDT\n\nLocation:\nCountry Place Senior Living\n1860 N Washington\nLivingston\, TX 77351 \n\n\n\nWebsite:\nThe Chamber\n\n\nContact Information:\n936.327.4929\nSend Email
URL:https://www.texasforestcountryliving.com/event/women-interested-in-networking-opportunities-polk-county/
LOCATION:Country Place Senior Living
CATEGORIES:Polk County
ATTACH;FMTTYPE=image/png:https://www.texasforestcountryliving.com/wp-content/uploads/2024/08/04CountryPlace.png
ORGANIZER;CN="Livingston-Polk County Chamber of Commerce":MAILTO:info@polkchamber.com
END:VEVENT
END:VCALENDAR