BEGIN:VCALENDAR
VERSION:2.0
PRODID:-//Texas Forest Country Living - ECPv6.15.20//NONSGML v1.0//EN
CALSCALE:GREGORIAN
METHOD:PUBLISH
X-ORIGINAL-URL:https://www.texasforestcountryliving.com
X-WR-CALDESC:Events for Texas Forest Country Living
REFRESH-INTERVAL;VALUE=DURATION:PT1H
X-Robots-Tag:noindex
X-PUBLISHED-TTL:PT1H
BEGIN:VTIMEZONE
TZID:America/Chicago
BEGIN:DAYLIGHT
TZOFFSETFROM:-0600
TZOFFSETTO:-0500
TZNAME:CDT
DTSTART:20220313T080000
END:DAYLIGHT
BEGIN:STANDARD
TZOFFSETFROM:-0500
TZOFFSETTO:-0600
TZNAME:CST
DTSTART:20221106T070000
END:STANDARD
BEGIN:DAYLIGHT
TZOFFSETFROM:-0600
TZOFFSETTO:-0500
TZNAME:CDT
DTSTART:20230312T080000
END:DAYLIGHT
BEGIN:STANDARD
TZOFFSETFROM:-0500
TZOFFSETTO:-0600
TZNAME:CST
DTSTART:20231105T070000
END:STANDARD
BEGIN:DAYLIGHT
TZOFFSETFROM:-0600
TZOFFSETTO:-0500
TZNAME:CDT
DTSTART:20240310T080000
END:DAYLIGHT
BEGIN:STANDARD
TZOFFSETFROM:-0500
TZOFFSETTO:-0600
TZNAME:CST
DTSTART:20241103T070000
END:STANDARD
END:VTIMEZONE
BEGIN:VEVENT
DTSTART;TZID=America/Chicago:20230728T130000
DTEND;TZID=America/Chicago:20230728T160000
DTSTAMP:20260420T170450
CREATED:20230718T135926Z
LAST-MODIFIED:20230718T135926Z
UID:10000308-1690549200-1690560000@www.texasforestcountryliving.com
SUMMARY:Vacation Bible School (San Jacinto County)
DESCRIPTION:Looking for an activity for the kids? \nDon’t forget to sign up your kiddos for VBS!! Just scan the QR and register them! This is open to all kiddos pre-k thru 6th grade. Please share to get the word out! \nWhat: Vacation Bible School\nWhere: San Jacinto County Cowboy Church (1011 State Highway 150 Coldspring\, TX 77331)\nWhen: July 24-28\, 2023\, 1-4 p.m \nThis is the link to register in case someone can’t get the QR code to work.\nhttps://docs.google.com/forms/d/e/1FAIpQLSfISyuNBLa84jgjNl915w393rVxrnCpvDGUgXlgOHOmSx7kiw/viewform?fbclid=IwAR3H5pX7VhBY_h5cfVfakCyowj7LfoDw3CtdjmAiHNckzfXBhoPfLrHfejA&pli=1
URL:https://www.texasforestcountryliving.com/event/vacation-bible-school-san-jacinto-county/2023-07-28/
LOCATION:San Jacinto County Cowboy Church
CATEGORIES:San Jacinto County
ATTACH;FMTTYPE=image/jpeg:https://www.texasforestcountryliving.com/wp-content/uploads/2023/07/358367983_646359624194119_5269966170687288704_n.jpg
END:VEVENT
END:VCALENDAR