BEGIN:VCALENDAR
VERSION:2.0
PRODID:-//Texas Forest Country Living - ECPv6.15.20//NONSGML v1.0//EN
CALSCALE:GREGORIAN
METHOD:PUBLISH
X-WR-CALNAME:Texas Forest Country Living
X-ORIGINAL-URL:https://www.texasforestcountryliving.com
X-WR-CALDESC:Events for Texas Forest Country Living
REFRESH-INTERVAL;VALUE=DURATION:PT1H
X-Robots-Tag:noindex
X-PUBLISHED-TTL:PT1H
BEGIN:VTIMEZONE
TZID:America/Chicago
BEGIN:DAYLIGHT
TZOFFSETFROM:-0600
TZOFFSETTO:-0500
TZNAME:CDT
DTSTART:20220313T080000
END:DAYLIGHT
BEGIN:STANDARD
TZOFFSETFROM:-0500
TZOFFSETTO:-0600
TZNAME:CST
DTSTART:20221106T070000
END:STANDARD
BEGIN:DAYLIGHT
TZOFFSETFROM:-0600
TZOFFSETTO:-0500
TZNAME:CDT
DTSTART:20230312T080000
END:DAYLIGHT
BEGIN:STANDARD
TZOFFSETFROM:-0500
TZOFFSETTO:-0600
TZNAME:CST
DTSTART:20231105T070000
END:STANDARD
BEGIN:DAYLIGHT
TZOFFSETFROM:-0600
TZOFFSETTO:-0500
TZNAME:CDT
DTSTART:20240310T080000
END:DAYLIGHT
BEGIN:STANDARD
TZOFFSETFROM:-0500
TZOFFSETTO:-0600
TZNAME:CST
DTSTART:20241103T070000
END:STANDARD
END:VTIMEZONE
BEGIN:VEVENT
DTSTART;TZID=America/Chicago:20230729T090000
DTEND;TZID=America/Chicago:20230729T150000
DTSTAMP:20260421T094148
CREATED:20230718T124113Z
LAST-MODIFIED:20230718T124113Z
UID:10000300-1690621200-1690642800@www.texasforestcountryliving.com
SUMMARY:Christmas in July (San Jacinto County)
DESCRIPTION:Join the fun on the Square in Coldspring\, Texas!\nLive music on both sides of the courthouse! Vendors all around the Square!\nBluegrass on Rosalie’s porch! \nJuly 29th at the San Jacinto County Courthouse\n9:00 a.m to 3 p.m \nSUMMER SANTA MAY SHOW UP! \nFor more information call Paul at 713-471-3460 or Helenmarie at 936-653-2332
URL:https://www.texasforestcountryliving.com/event/christmas-in-july-san-jacinto-county/
LOCATION:San Jacinto County Courthouse Square\, Coldspring\, TX\, United States
CATEGORIES:San Jacinto County
ATTACH;FMTTYPE=image/jpeg:https://www.texasforestcountryliving.com/wp-content/uploads/2023/07/358618100_775348877929443_2011925799946664462_n.jpg
ORGANIZER;CN="Coldspring Area Business & Merchant Assn.":MAILTO:cabma.org@gmail.com
END:VEVENT
END:VCALENDAR