BEGIN:VCALENDAR
VERSION:2.0
PRODID:-//Texas Forest Country Living - ECPv6.15.20//NONSGML v1.0//EN
CALSCALE:GREGORIAN
METHOD:PUBLISH
X-WR-CALNAME:Texas Forest Country Living
X-ORIGINAL-URL:https://www.texasforestcountryliving.com
X-WR-CALDESC:Events for Texas Forest Country Living
REFRESH-INTERVAL;VALUE=DURATION:PT1H
X-Robots-Tag:noindex
X-PUBLISHED-TTL:PT1H
BEGIN:VTIMEZONE
TZID:America/Chicago
BEGIN:DAYLIGHT
TZOFFSETFROM:-0600
TZOFFSETTO:-0500
TZNAME:CDT
DTSTART:20220313T080000
END:DAYLIGHT
BEGIN:STANDARD
TZOFFSETFROM:-0500
TZOFFSETTO:-0600
TZNAME:CST
DTSTART:20221106T070000
END:STANDARD
BEGIN:DAYLIGHT
TZOFFSETFROM:-0600
TZOFFSETTO:-0500
TZNAME:CDT
DTSTART:20230312T080000
END:DAYLIGHT
BEGIN:STANDARD
TZOFFSETFROM:-0500
TZOFFSETTO:-0600
TZNAME:CST
DTSTART:20231105T070000
END:STANDARD
BEGIN:DAYLIGHT
TZOFFSETFROM:-0600
TZOFFSETTO:-0500
TZNAME:CDT
DTSTART:20240310T080000
END:DAYLIGHT
BEGIN:STANDARD
TZOFFSETFROM:-0500
TZOFFSETTO:-0600
TZNAME:CST
DTSTART:20241103T070000
END:STANDARD
END:VTIMEZONE
BEGIN:VEVENT
DTSTART;TZID=America/Chicago:20231022T070000
DTEND;TZID=America/Chicago:20231022T160000
DTSTAMP:20260419T141153
CREATED:20231016T143442Z
LAST-MODIFIED:20231016T143442Z
UID:10000303-1697958000-1697990400@www.texasforestcountryliving.com
SUMMARY:Texas CrossRoads Band at the 38th Annual Wolf Creek Car Show (San Jacinto County)
DESCRIPTION:You loved them last year so we are bringing them back! Texas Crossroads band from 6-10 pm at the Wolf Creek Car Show!\nGates CLOSE AT 6 PM! If you want to see them\, be there before 6 pm!!! The park will not budge no matter who you are. Sorry. \nWhere: TRA Wolf Creek Park\nWhen: Sunday\, October 22\, 2023 at 7 a.m \nEvent by Coldspring Chamber of Commerce
URL:https://www.texasforestcountryliving.com/event/texas-crossroads-band-at-the-38th-annual-wolf-creek-car-show-san-jacinto-county/
LOCATION:TRA Wolf Creek Park
CATEGORIES:San Jacinto County
ATTACH;FMTTYPE=image/jpeg:https://www.texasforestcountryliving.com/wp-content/uploads/2023/07/355711344_655212626635593_1423082089318979033_n.jpg
ORGANIZER;CN="Coldspring Chamber of Commerce":MAILTO:chambercoldspringtexas@gmail.com
END:VEVENT
END:VCALENDAR