BEGIN:VCALENDAR
VERSION:2.0
PRODID:-//Texas Forest Country Living - ECPv6.15.20//NONSGML v1.0//EN
CALSCALE:GREGORIAN
METHOD:PUBLISH
X-ORIGINAL-URL:https://www.texasforestcountryliving.com
X-WR-CALDESC:Events for Texas Forest Country Living
REFRESH-INTERVAL;VALUE=DURATION:PT1H
X-Robots-Tag:noindex
X-PUBLISHED-TTL:PT1H
BEGIN:VTIMEZONE
TZID:America/Chicago
BEGIN:DAYLIGHT
TZOFFSETFROM:-0600
TZOFFSETTO:-0500
TZNAME:CDT
DTSTART:20210314T080000
END:DAYLIGHT
BEGIN:STANDARD
TZOFFSETFROM:-0500
TZOFFSETTO:-0600
TZNAME:CST
DTSTART:20211107T070000
END:STANDARD
BEGIN:DAYLIGHT
TZOFFSETFROM:-0600
TZOFFSETTO:-0500
TZNAME:CDT
DTSTART:20220313T080000
END:DAYLIGHT
BEGIN:STANDARD
TZOFFSETFROM:-0500
TZOFFSETTO:-0600
TZNAME:CST
DTSTART:20221106T070000
END:STANDARD
BEGIN:DAYLIGHT
TZOFFSETFROM:-0600
TZOFFSETTO:-0500
TZNAME:CDT
DTSTART:20230312T080000
END:DAYLIGHT
BEGIN:STANDARD
TZOFFSETFROM:-0500
TZOFFSETTO:-0600
TZNAME:CST
DTSTART:20231105T070000
END:STANDARD
BEGIN:DAYLIGHT
TZOFFSETFROM:-0600
TZOFFSETTO:-0500
TZNAME:CDT
DTSTART:20240310T080000
END:DAYLIGHT
BEGIN:STANDARD
TZOFFSETFROM:-0500
TZOFFSETTO:-0600
TZNAME:CST
DTSTART:20241103T070000
END:STANDARD
BEGIN:DAYLIGHT
TZOFFSETFROM:-0600
TZOFFSETTO:-0500
TZNAME:CDT
DTSTART:20250309T080000
END:DAYLIGHT
BEGIN:STANDARD
TZOFFSETFROM:-0500
TZOFFSETTO:-0600
TZNAME:CST
DTSTART:20251102T070000
END:STANDARD
BEGIN:DAYLIGHT
TZOFFSETFROM:-0600
TZOFFSETTO:-0500
TZNAME:CDT
DTSTART:20260308T080000
END:DAYLIGHT
BEGIN:STANDARD
TZOFFSETFROM:-0500
TZOFFSETTO:-0600
TZNAME:CST
DTSTART:20261101T070000
END:STANDARD
END:VTIMEZONE
BEGIN:VEVENT
DTSTART;TZID=America/Chicago:20250830T090000
DTEND;TZID=America/Chicago:20250831T090000
DTSTAMP:20260422T215143
CREATED:20250801T163100Z
LAST-MODIFIED:20250807T125619Z
UID:10003436-1756544400-1756630800@www.texasforestcountryliving.com
SUMMARY:Ruth Lake Summer Festival
DESCRIPTION:Get Ready for an Unforgettable Summer Experience!  \n\n\n\nThe excitement is building for the 30th Annual Ruth Lake Summer Festival\, happening August 30-31\, 2025\, at the beautiful Ruth Rec Campground! Join us for a weekend filled with fun\, laughter\, and community spirit! \n\n\n\nWhat’s in store for you? Check out our amazing lineup: \n\n\n\nVendor Booths: Discover unique treasures and local crafts! Live Music: Dance to the rhythm of fantastic bands!Fishing: Cast your line and reel in the big one!Camping: Experience the great outdoors under the stars!Delicious Blueberry Pancakes: Indulge your taste buds with mouthwatering treats!Food Vendors: Savor a variety of delectable options!Dutch Raffle: Try your luck and win fabulous prizes!This festival isn’t just about fun; it’s about giving back. All proceeds support the Southern Trinity Volunteer Fire Department\, Southern Trinity Area Rescue\, Trinity County Food Bank\, and other vital local projects. \n\n\n\nMark Your Calendars: \n\n\n\n Saturday\, Aug 30: 9 AM – 5 PM \n\n\n\n Sunday\, Aug 31: 9 AM – 4 PM \n\n\n\nDon’t miss out on the perfect way to celebrate the last days of summer with family and friends! For more details\, visit us at htraonline.org or reach out at htraruth@gmail.com or contact Patsy at 707-382-5176.
URL:https://www.texasforestcountryliving.com/event/ruth-lake-summer-festival/
CATEGORIES:Trinity County
ATTACH;FMTTYPE=image/jpeg:https://www.texasforestcountryliving.com/wp-content/uploads/2025/06/509202671_17952220184975489_8242744992687519008_n.jpg
END:VEVENT
BEGIN:VEVENT
DTSTART;TZID=America/Chicago:20250204T180000
DTEND;TZID=America/Chicago:20250204T193000
DTSTAMP:20260422T215143
CREATED:20250123T114845Z
LAST-MODIFIED:20250123T114845Z
UID:10003135-1738692000-1738697400@www.texasforestcountryliving.com
SUMMARY:Digital Marketing Workshop (Trinity County)
DESCRIPTION:News from the Weaverville Chamber of Commerce! We’re thrilled to invite you to an informative Digital Marketing Workshop led by our very own Bradley Everest! \nJoin us as we dive into the world of Facebook and Instagram and learn how to harness these powerful tools to elevate your business and maximize your marketing efforts! Date: February 4thTime: 6:00 PM – 7:30 PMLocation: Trinity Alps Restaurant and LoungeHere’s what’s in store:– Valuable insights into effective digital marketing strategies– Tips to save time and boost your online presence– Networking opportunities with fellow local business owners Pricing Options:Silver & Gold WCOC Members: FREE!Individual & Non-Profit Members: $10Non-Members – General Public: $20Don’t miss out on this chance to enhance your digital marketing skills! Reserve your spot today! We can’t wait to see you there!#Trinity #LocalHighlight #TrinityCounty #TrinityCountyChamber #WeavervilleChamber #Weaverville #Workshop #TrinityAlpsLounge #SupportLocalBusiness #Explore #Landscape #NatureLovers #Outdoors #ShastaCascade #NorCal #VisitCalifornia #Aesthetic
URL:https://www.texasforestcountryliving.com/event/digital-marketing-workshop-trinity-county/
LOCATION:Trinity Alps Restaurant and Lounge
CATEGORIES:Trinity County
ATTACH;FMTTYPE=image/jpeg:https://www.texasforestcountryliving.com/wp-content/uploads/2025/01/474715117_17935519214975489_2306762794098791487_n.jpg
END:VEVENT
BEGIN:VEVENT
DTSTART;TZID=America/Chicago:20250201T080000
DTEND;TZID=America/Chicago:20250201T110000
DTSTAMP:20260422T215143
CREATED:20250115T102643Z
LAST-MODIFIED:20250115T102643Z
UID:10003127-1738396800-1738407600@www.texasforestcountryliving.com
SUMMARY:Classic and Super Cars Under The Stars Featuring Payton Howie (Trinity County)
DESCRIPTION:Evening Car Show$30 Per Vehicle EntryEnter at: https://charliediggs.com/cars-under-the-stars/ \n\nFeaturing Live Music from Payton Howie \n\nOpen to the public.$10 Adults$5 Kids (4-12 – 3 & under are free)Food Trucks – Live Music – AwardsGames\, Outdoor Movie for the Kids and More! \n\nRain Date: 2/1/2025
URL:https://www.texasforestcountryliving.com/event/classic-and-super-cars-under-the-stars-featuring-payton-howie-trinity-county/
LOCATION:1097 McCaleb Rd\, Montgomery\, TX 77316-5009\, United States
CATEGORIES:Trinity County
ATTACH;FMTTYPE=image/jpeg:https://www.texasforestcountryliving.com/wp-content/uploads/2025/01/470859121_1126960868767032_8012345448091390187_n.jpg
END:VEVENT
BEGIN:VEVENT
DTSTART;TZID=America/Chicago:20250115T090000
DTEND;TZID=America/Chicago:20250117T130000
DTSTAMP:20260422T215143
CREATED:20250110T123303Z
LAST-MODIFIED:20250110T123303Z
UID:10003123-1736931600-1737118800@www.texasforestcountryliving.com
SUMMARY:Abuse\, Human Trafficking\, & Mental Health Awareness\, Prevention\, and Reporting Workshops (Houston/Trinity County)
DESCRIPTION:Abuse\, Human Trafficking\, & Mental Health Awareness\, Prevention\, and Reporting WorkshopsThe purpose of this workshop is to raise awareness\, and provide tips for prevention and reporting and is hosted by SpeakTruth Global Outreach and sponsored by Kalin’s Center. Leanne Henson and Janet Napper are among the experts you will hear from on this important issue.$45 per session or all three sessions for $99.Lunch is included (Wednesday and Thursday).For tickets\, scan the QR code or visit: https://buy.stripe.com/7sI3de8xic9Y0rSaFq.Call (936) 931-7770 for more information.When:January 15th-17thWhere:SpeakTruth Global Headquarters502 E. Houston Avenue(former The Loft location)Crockett\, TX 75835
URL:https://www.texasforestcountryliving.com/event/abuse-human-trafficking-mental-health-awareness-prevention-and-reporting-workshops-houston-trinity-county/
LOCATION:SpeakTruth Global Headquarters
CATEGORIES:Houston County,Trinity County
ATTACH;FMTTYPE=image/jpeg:https://www.texasforestcountryliving.com/wp-content/uploads/2025/01/472712531_1011686131004075_5027604243063394585_n.jpg
END:VEVENT
BEGIN:VEVENT
DTSTART;TZID=America/Chicago:20250111T083000
DTEND;TZID=America/Chicago:20250111T150000
DTSTAMP:20260422T215143
CREATED:20250102T123137Z
LAST-MODIFIED:20250102T123137Z
UID:10003115-1736584200-1736607600@www.texasforestcountryliving.com
SUMMARY:The Art of War: Men's Conference (Trinity County)
DESCRIPTION:2 Corinthians 10:3-5 For though we walk in the flesh\, we do not war after the flesh: (For the weapons of our warfare are not carnal\, but mighty through God to the pulling down of strong holds;) Casting down imaginations\, and every high thing that exalteth itself against the knowledge of God\, and bringing into captivity every thought to the obedience of Christ;\nJoin us as we are challenged by the word of God to become warriors\, defenders and protectors. Men of all ages\, backgrounds\, and faiths are invited. Lunch was provided\, and light breakfast snacks were provided. \n\n$20 is the entry fee. Pay online or at the door.\nWho’s speaking? It could be you. Have a word ready to share. \nLocation:\n818 Interstate 45 S\, Huntsville\, TX\nDate and Time:\nSaturday\, January 11\, 2025\, from 8:30 am to 3:00 pm
URL:https://www.texasforestcountryliving.com/event/the-art-of-war-mens-conference-trinity-county/
LOCATION:818 Interstate 45 S\, Huntsville\, TX
CATEGORIES:Trinity County
ATTACH;FMTTYPE=image/jpeg:https://www.texasforestcountryliving.com/wp-content/uploads/2025/01/466596105_962601955900751_1466567333615059900_n.jpg
END:VEVENT
BEGIN:VEVENT
DTSTART;TZID=America/Chicago:20241030T183000
DTEND;TZID=America/Chicago:20241030T200000
DTSTAMP:20260422T215143
CREATED:20241022T160529Z
LAST-MODIFIED:20241022T160529Z
UID:10003086-1730313000-1730318400@www.texasforestcountryliving.com
SUMMARY:See Laura Wilkinson at Groveton FBC
DESCRIPTION:Everyone is invited to enjoy a wonderful evening with Olympic Gold Medalist Laura Wilkinson. \nCareer Highlights: \n\n\n2005 World Championship Gold Medalist \n\n\n2004 World Cup Platform Gold Medalist \n\n\n2000 Olympic Platform Gold Medalist – First woman in history to earn all 3 world titles on platform \n\n\n1998 Goodwill Games Platform Gold Medalist – Only American diver to win a Goodwill Games Gold Medal in history \n\n\n1995 World Cup Bronze Medalist in Platform Synchro- with partner Patty Armstrong  \n\n\n19 USA Diving National Titles- 11 individual and 8 synchronized \n\n\n3 Time Olympian (2000\, 2004 & 2008) \n\n\n14 Time USA Diving National Team Member (1995-2008) \n\n\n2 Time NCAA Champion (1997 & 1999) \n\n\n8 NCAA All American Honors
URL:https://www.texasforestcountryliving.com/event/see-laura-wilkinson-at-groveton-fbc/
LOCATION:Groveton First Baptist Church\, 126 N Devine Ave\, Groveton\, TX\, 75845\, United States
CATEGORIES:Trinity County
ATTACH;FMTTYPE=image/png:https://www.texasforestcountryliving.com/wp-content/uploads/2024/10/close-up-of-swimming-goggles-2023-11-27-05-11-06-utc.png
ORGANIZER;CN="Groveton First Baptist Church":MAILTO:fbcgroveton@valornet.com
END:VEVENT
BEGIN:VEVENT
DTSTART;TZID=America/Chicago:20240810T190000
DTEND;TZID=America/Chicago:20240810T220000
DTSTAMP:20260422T215143
CREATED:20240806T110252Z
LAST-MODIFIED:20240806T110621Z
UID:10003031-1723316400-1723327200@www.texasforestcountryliving.com
SUMMARY:The Haggertys at Bear Hall\, Crockett TX
DESCRIPTION:The Haggertys are RAWK’n down to Crockett TX to BEAR HALL for a fun nite of 80s\, 90s\, & 00s rock music. Showtime is 7 pm-10 pm. $10 Cover at the door.\n18+\nFirst week back at school\, sports\, or just need to have a date night out and need to get some of that stress relief?? Bear Hall is the place to be! You will find yourself singing along to music from 3rd Eye Blind\, Gin Blossoms\, Matchbox 20\, Dishwalla\, the Cult\, Foo Fighters\, Sublime\, Billy Joel\, Cheap Trick\, and many more!! Put it on your calendars!The Bear Hall Food Truck will be open to satisfy your hunger and of course\, Bear Hall Bar can shake\, stir\, and mix just about whatever drink you want!See y’all there!!
URL:https://www.texasforestcountryliving.com/event/the-haggertys-at-bear-hall-crockett-tx-trinity-county/
LOCATION:Bear Hall\, Crockett TX
CATEGORIES:Trinity County
ATTACH;FMTTYPE=image/jpeg:https://www.texasforestcountryliving.com/wp-content/uploads/2024/08/437463608_944134544384630_3732702779763971474_n.jpg
END:VEVENT
BEGIN:VEVENT
DTSTART;TZID=America/Chicago:20240730T163000
DTEND;TZID=America/Chicago:20240730T173000
DTSTAMP:20260422T215143
CREATED:20240705T142918Z
LAST-MODIFIED:20240705T142918Z
UID:10003002-1722357000-1722360600@www.texasforestcountryliving.com
SUMMARY:Online Tobacco Cessation Class (Trinity County)
DESCRIPTION:Tuesdays in July: 7/9\, 7/16\, 7/23 and 7/30 from 4:30p-5:30pm {Online\, Virtual Classes!}Join Project Quit for FREE virtual support classes\, plus FREE nicotine patches\, gum\, or lozenges! \nThis 4-session program is free for participants and all materials are included. Participants receive goodies\, a workbook\, and the support of a trained facilitator.\nClick on the link to sign uphttps://zoom.us/…/tJAkf-igpz0rGNGuLmLnoyuSMk2oJO_4dSqd \n\nFor more information\, visit our website (project-quit org) or call The Coalition at 936-634-9308.*Free NRT provided with registration to the Texas Quitline
URL:https://www.texasforestcountryliving.com/event/online-tobacco-cessation-class-trinity-county/2024-07-30/
CATEGORIES:Trinity County
ATTACH;FMTTYPE=image/jpeg:https://www.texasforestcountryliving.com/wp-content/uploads/2024/07/444446169_862626802564678_2357163086248923361_n.jpg
ORGANIZER;CN="The Coalition":MAILTO:info@angelinacoalition.org
END:VEVENT
BEGIN:VEVENT
DTSTART;TZID=America/Chicago:20240726T190000
DTEND;TZID=America/Chicago:20240726T220000
DTSTAMP:20260422T215143
CREATED:20240726T142357Z
LAST-MODIFIED:20240726T142357Z
UID:10003021-1722020400-1722031200@www.texasforestcountryliving.com
SUMMARY:Bear Hall Presents The Dustin Toliver Band (Trinity County)
DESCRIPTION:Hailing from the heart of Central Texas\, this group is not your average Red Dirt band. They’re a sonic fusion of raw energy with a touch of country soul\, breaking musical boundaries with every chord they strike.Formed in 2022\, the Dustin Toliver Band is driven by a shared passion for pushing the limits of music. Their magnetic stage presence and genre-defying sound have quickly earned them a dedicated fanbase\, captivating audiences wherever they go. \n\nBe sure to follow Dustin on his socials:Facebook: https://www.facebook.com/dustintolivermusic/Instagram: https://www.instagram.com/dustintoliverband/Spotify: https://open.spotify.com/artist/522sL2EBlq7gvIE3axTW5i…https://linktr.ee/dustintoliverband\nGet ready to experience a musical journey like no other with the Dustin Toliver Band #DustinToliverBand #CentralTexasMusic #GenreDefyingSounds #LiveMusicExperience \nMore Information:\nJuly 26th\, 20247-10 pm$10 Cover18+BEAR HALLHISTORIC DOWNTOWN CROCKETT229 E Goliad Ave. \n\n#BEARHALLCROCKETT#CROCKETTTX#LIVEMUSIC@bear_hall_crockettwww.bearhallcrockett.com
URL:https://www.texasforestcountryliving.com/event/bear-hall-presents-the-dustin-toliver-band-trinity-county/
LOCATION:Historic Downtown\, E. Main St\, Nacogdoches\, TX\, 75961\, United States
CATEGORIES:Trinity County
ATTACH;FMTTYPE=image/jpeg:https://www.texasforestcountryliving.com/wp-content/uploads/2024/07/445077319_892759982654285_7327825760580947061_n.jpg
END:VEVENT
BEGIN:VEVENT
DTSTART;TZID=America/Chicago:20240723T163000
DTEND;TZID=America/Chicago:20240723T173000
DTSTAMP:20260422T215143
CREATED:20240705T142918Z
LAST-MODIFIED:20240705T142918Z
UID:10003001-1721752200-1721755800@www.texasforestcountryliving.com
SUMMARY:Online Tobacco Cessation Class (Trinity County)
DESCRIPTION:Tuesdays in July: 7/9\, 7/16\, 7/23 and 7/30 from 4:30p-5:30pm {Online\, Virtual Classes!}Join Project Quit for FREE virtual support classes\, plus FREE nicotine patches\, gum\, or lozenges! \nThis 4-session program is free for participants and all materials are included. Participants receive goodies\, a workbook\, and the support of a trained facilitator.\nClick on the link to sign uphttps://zoom.us/…/tJAkf-igpz0rGNGuLmLnoyuSMk2oJO_4dSqd \n\nFor more information\, visit our website (project-quit org) or call The Coalition at 936-634-9308.*Free NRT provided with registration to the Texas Quitline
URL:https://www.texasforestcountryliving.com/event/online-tobacco-cessation-class-trinity-county/2024-07-23/
CATEGORIES:Trinity County
ATTACH;FMTTYPE=image/jpeg:https://www.texasforestcountryliving.com/wp-content/uploads/2024/07/444446169_862626802564678_2357163086248923361_n.jpg
ORGANIZER;CN="The Coalition":MAILTO:info@angelinacoalition.org
END:VEVENT
BEGIN:VEVENT
DTSTART;TZID=America/Chicago:20240716T163000
DTEND;TZID=America/Chicago:20240716T173000
DTSTAMP:20260422T215143
CREATED:20240705T142918Z
LAST-MODIFIED:20240705T142918Z
UID:10003000-1721147400-1721151000@www.texasforestcountryliving.com
SUMMARY:Online Tobacco Cessation Class (Trinity County)
DESCRIPTION:Tuesdays in July: 7/9\, 7/16\, 7/23 and 7/30 from 4:30p-5:30pm {Online\, Virtual Classes!}Join Project Quit for FREE virtual support classes\, plus FREE nicotine patches\, gum\, or lozenges! \nThis 4-session program is free for participants and all materials are included. Participants receive goodies\, a workbook\, and the support of a trained facilitator.\nClick on the link to sign uphttps://zoom.us/…/tJAkf-igpz0rGNGuLmLnoyuSMk2oJO_4dSqd \n\nFor more information\, visit our website (project-quit org) or call The Coalition at 936-634-9308.*Free NRT provided with registration to the Texas Quitline
URL:https://www.texasforestcountryliving.com/event/online-tobacco-cessation-class-trinity-county/2024-07-16/
CATEGORIES:Trinity County
ATTACH;FMTTYPE=image/jpeg:https://www.texasforestcountryliving.com/wp-content/uploads/2024/07/444446169_862626802564678_2357163086248923361_n.jpg
ORGANIZER;CN="The Coalition":MAILTO:info@angelinacoalition.org
END:VEVENT
BEGIN:VEVENT
DTSTART;TZID=America/Chicago:20240709T163000
DTEND;TZID=America/Chicago:20240709T173000
DTSTAMP:20260422T215143
CREATED:20240705T142918Z
LAST-MODIFIED:20240705T142918Z
UID:10002999-1720542600-1720546200@www.texasforestcountryliving.com
SUMMARY:Online Tobacco Cessation Class (Trinity County)
DESCRIPTION:Tuesdays in July: 7/9\, 7/16\, 7/23 and 7/30 from 4:30p-5:30pm {Online\, Virtual Classes!}Join Project Quit for FREE virtual support classes\, plus FREE nicotine patches\, gum\, or lozenges! \nThis 4-session program is free for participants and all materials are included. Participants receive goodies\, a workbook\, and the support of a trained facilitator.\nClick on the link to sign uphttps://zoom.us/…/tJAkf-igpz0rGNGuLmLnoyuSMk2oJO_4dSqd \n\nFor more information\, visit our website (project-quit org) or call The Coalition at 936-634-9308.*Free NRT provided with registration to the Texas Quitline
URL:https://www.texasforestcountryliving.com/event/online-tobacco-cessation-class-trinity-county/2024-07-09/
CATEGORIES:Trinity County
ATTACH;FMTTYPE=image/jpeg:https://www.texasforestcountryliving.com/wp-content/uploads/2024/07/444446169_862626802564678_2357163086248923361_n.jpg
ORGANIZER;CN="The Coalition":MAILTO:info@angelinacoalition.org
END:VEVENT
BEGIN:VEVENT
DTSTART;TZID=America/Chicago:20240706T180000
DTEND;TZID=America/Chicago:20240706T203000
DTSTAMP:20260422T215143
CREATED:20240701T130143Z
LAST-MODIFIED:20240701T130143Z
UID:10002995-1720288800-1720297800@www.texasforestcountryliving.com
SUMMARY:Ken Brown Live (Trinity County)
DESCRIPTION:Ken Brown is a regional solo musician entertaining with his unique style of traditional country music…a crossover music artist from an array of genres. His integration of a variety of elements into the country genre has earned him his popularity with the mainstream audience. \n\nYou can hear Ken perform LIVE on stage for a night of traditional country music…KB Country presents a Tribute to the Troubadours!\n“I can’t wait to see you there! Get to know my songs before the show!” Ken\n\nKB COUNTRY KEN BROWNhttps://www.facebook.com/profile.php?id=61550509183183… \nDate/Time Information:\nSaturday\, July 6\, 2024\, at 6 pm \nLocation:\nRansom’s Steakhouse & Saloon \n\nLinks:\nTROUBADOUR…https://m.facebook.com/story.php?story_fbid=10223169593817485&id=1511841806\nCRAZY ARMS…https://m.facebook.com/story.php?story_fbid=10223382255653898&id=1511841806\nMILES AND MILES OF TEXAS…https://www.facebook.com/ken.brown.7315720/videos/801733071304756/\nGOODBYE TIMEhttps://m.facebook.com/story.php?story_fbid=10223235509785343&id=1511841806\nUNDO THE RIGHThttps://www.facebook.com/share/v/NoYNK9Q4PFQHhCn3/?mibextid=oFDknk
URL:https://www.texasforestcountryliving.com/event/ken-brown-live-trinity-county-2/
LOCATION:Ransom’s Steakhouse & Saloon
CATEGORIES:Trinity County
ATTACH;FMTTYPE=image/jpeg:https://www.texasforestcountryliving.com/wp-content/uploads/2024/06/449093985_8038281492890954_7289449871546046019_n.jpg
END:VEVENT
BEGIN:VEVENT
DTSTART;TZID=America/Chicago:20240706T090000
DTEND;TZID=America/Chicago:20240706T150000
DTSTAMP:20260422T215143
CREATED:20240621T182138Z
LAST-MODIFIED:20240621T182138Z
UID:10002991-1720256400-1720278000@www.texasforestcountryliving.com
SUMMARY:Riverside Vendor Market (Trinity County)
DESCRIPTION:Come join us for our monthly market! We now have a Facebook page! You can contact us through information in above image or here at our page. The market is from 9:00am to 3:00pm\, July 6th 2024. We have new vendors each month!!! Remember Please\, I am the only contact for this event. Please do not answer or send anyone else your information. \nLocation:\n2316 FM 980 Rd\, Huntsville\, TX 77320-1372\, United States \nEvent by Riversidetx Vendormkt
URL:https://www.texasforestcountryliving.com/event/riverside-vendor-market-trinity-county/
LOCATION:2316 FM 980 Rd\, Huntsville\, TX 77320-1372\, United States
CATEGORIES:Trinity County
ATTACH;FMTTYPE=image/jpeg:https://www.texasforestcountryliving.com/wp-content/uploads/2024/06/448010168_122105462174350744_609646381146131135_n.jpg
END:VEVENT
BEGIN:VEVENT
DTSTART;TZID=America/Chicago:20240413T180000
DTEND;TZID=America/Chicago:20240413T200000
DTSTAMP:20260422T215143
CREATED:20240402T142419Z
LAST-MODIFIED:20240402T142917Z
UID:10002953-1713031200-1713038400@www.texasforestcountryliving.com
SUMMARY:Ken Brown Live (Trinity County)
DESCRIPTION:Ken Brown is a regional solo musician entertaining with his unique style of traditional country music– A crossover music artist from an array of genres. His integration of a variety of elements into the country genre has earned him his popularity with the mainstream audience. \n\nYou can hear Ken perform LIVE on stage at Ransom’s Steakhouse and Saloon off 105 in Montgomery for a night of traditional country music…KB Country presents a Tribute to the Troubadours!\n“I can’t wait to see you there! Get to know my songs before the show!” Ken\nKB COUNTRY KEN BROWN\nhttps://www.facebook.com/profile.php?id=61550509183183…\n\nLINKS\nTROUBADOUR…\nhttps://m.facebook.com/story.php?story_fbid=10223169593817485&id=1511841806\nCRAZY ARMS…\nhttps://m.facebook.com/story.php?story_fbid=10223382255653898&id=1511841806\nMILES AND MILES OF TEXAS…\nhttps://www.facebook.com/ken.brown.7315720/videos/801733071304756/\nGOODBYE TIME\nhttps://m.facebook.com/story.php?story_fbid=10223235509785343&id=1511841806
URL:https://www.texasforestcountryliving.com/event/ken-brown-live-trinity-county/
LOCATION:Ransom’s Steakhouse and Saloon
CATEGORIES:Trinity County
ATTACH;FMTTYPE=image/jpeg:https://www.texasforestcountryliving.com/wp-content/uploads/2024/04/433410501_7591080980944343_7434625863329802359_n-1.jpg
END:VEVENT
BEGIN:VEVENT
DTSTART;TZID=America/Chicago:20240128T180000
DTEND;TZID=America/Chicago:20240128T200000
DTSTAMP:20260422T215143
CREATED:20240119T114105Z
LAST-MODIFIED:20240119T114105Z
UID:10002599-1706464800-1706472000@www.texasforestcountryliving.com
SUMMARY:Chuck Crain from Presley's Branson & RFD TV Free Concert (Trinity County)
DESCRIPTION:Free Concert with Chuck Crain from Presleys’ Branson & RFD TV. Everyone Welcome!! \nDate/Time Information:\nSunday\, January 28\, 2024\, at 6 pm \nLocation:\nTrinity Tabernacle Assembly of God – TTAOG
URL:https://www.texasforestcountryliving.com/event/chuck-crain-from-presleys-branson-rfd-tv-free-concert-trinity-county/
LOCATION:Trinity Tabernacle Assembly of God – TTAOG
CATEGORIES:Trinity County
ATTACH;FMTTYPE=image/jpeg:https://www.texasforestcountryliving.com/wp-content/uploads/2024/01/419718477_362864036373873_8281347503659546433_n.jpg
END:VEVENT
BEGIN:VEVENT
DTSTART;TZID=America/Chicago:20240113T180000
DTEND;TZID=America/Chicago:20240113T203000
DTSTAMP:20260422T215143
CREATED:20240104T121951Z
LAST-MODIFIED:20240104T121951Z
UID:10002592-1705168800-1705177800@www.texasforestcountryliving.com
SUMMARY:Ken Brown (Trinity County)
DESCRIPTION:Ken Brown is a regional solo musician who entertains with his unique style of traditional country music. A crossover music artist from an array of genres. His integration of various elements into the country genre has earned him his popularity with the mainstream audience. \n\nDate/Time Information:\nSaturday\, January 13\, 2024\, at 6 PM to 8:30 PM \nLocation:\nRansom’s Steakhouse and Saloon\n\nYou can hear Ken perform LIVE on stage at Ransom’s Steakhouse & Saloon off 105 in Montgomery for a night of traditional country music. KB Country presents a Tribute to the Troubadours! \n\nI can’t wait to see you there! Get to know my songs before the show!\n\nTROUBADOUR\nhttps://m.facebook.com/story.php?story_fbid=10223169593817485&id=1511841806\nCRAZY ARMS\nhttps://m.facebook.com/story.php?story_fbid=10223382255653898&id=1511841806\nMILES AND MILES OF TEXAS\nhttps://www.facebook.com/ken.brown.7315720/videos/801733071304756/\nGOODBYE TIME\nhttps://m.facebook.com/story.php?story_fbid=10223235509785343&id=1511841806
URL:https://www.texasforestcountryliving.com/event/ken-brown-trinity-county/
LOCATION:Ransom’s Steakhouse and Saloon
CATEGORIES:Trinity County
ATTACH;FMTTYPE=image/jpeg:https://www.texasforestcountryliving.com/wp-content/uploads/2024/01/414944636_122154214712016972_1341210861150487164_n.jpg
END:VEVENT
BEGIN:VEVENT
DTSTART;TZID=America/Chicago:20230820T080000
DTEND;TZID=America/Chicago:20230820T120000
DTSTAMP:20260422T215143
CREATED:20230815T103430Z
LAST-MODIFIED:20230815T103430Z
UID:10002201-1692518400-1692532800@www.texasforestcountryliving.com
SUMMARY:Koka Kola Cowboyz @ the Trinity VFW
DESCRIPTION:Date/Time Information:\nAugust 20\, 2023\, from 8 am to 12 pm\nLocation:\nVFW Post 6899 \nIf you enjoy dancing to Traditional Country tunes then this is the place to be!$10 cover includes a meal! BYOB (but NO WINE)! The VFW offers beer\, set-ups\, wine & wine coolers. Bring an unwrapped toy for the Toys for Tots donation box and get in free!
URL:https://www.texasforestcountryliving.com/event/koka-kola-cowboyz-the-trinity-vfw/
LOCATION:VFW Post 6899
CATEGORIES:Trinity County
ATTACH;FMTTYPE=image/jpeg:https://www.texasforestcountryliving.com/wp-content/uploads/2023/08/355081691_745359144264983_6340068298838905144_n.jpg
END:VEVENT
BEGIN:VEVENT
DTSTART;TZID=America/Chicago:20230812T080000
DTEND;TZID=America/Chicago:20230812T113000
DTSTAMP:20260422T215143
CREATED:20230811T154431Z
LAST-MODIFIED:20230811T154431Z
UID:10002200-1691827200-1691839800@www.texasforestcountryliving.com
SUMMARY:Ben Bell at Barefoot Ballroom (Trinity County)
DESCRIPTION:Date/Time Information:\nSaturday\, August 12\, 2023\, at 8 am\nLocation:\nThe Barefoot Ballroom\n\nLive and intimate\, Ben Bell returns to his old stomping grounds for a toe-tappin’ good time. His “Chillbilly Twang” is sure to delight old fans and new faces. Local musician Miguel Marroquin\, who is a regular part of Huntsville’s live music scene will provide the opening act.\nThis event is BYOB and you should bring a camp chair. Cold water and sodas will be for sale.\nPurchase tickets to the show HERE
URL:https://www.texasforestcountryliving.com/event/ben-bell-at-barefoot-ballroom-trinity-county/
LOCATION:The Barefoot Ballroom
CATEGORIES:Trinity County
ATTACH;FMTTYPE=image/jpeg:https://www.texasforestcountryliving.com/wp-content/uploads/2023/08/358477810_10107972315483005_2488295520465818818_n.jpg
END:VEVENT
BEGIN:VEVENT
DTSTART;TZID=America/Chicago:20221017T080000
DTEND;TZID=America/Chicago:20221017T150000
DTSTAMP:20260422T215143
CREATED:20220814T200327Z
LAST-MODIFIED:20220814T201721Z
UID:10000157-1665993600-1666018800@www.texasforestcountryliving.com
SUMMARY:Texas Forest Country Partnership 2022 Economic Development Summit
DESCRIPTION:
URL:https://www.texasforestcountryliving.com/event/texas-forest-country-partnership-2022-economic-development-summit/
LOCATION:SFA Baker Patillo Student Center\, Grand Ballroom\, Nacogdoches\, TX\, 75962\, United States
CATEGORIES:Angelina County,Houston County,Jasper County,Nacogdoches County,Newton County,Panola County,Polk County,Sabine County,San Augustine County,San Jacinto County,Shelby County,Trinity County,Tyler County
END:VEVENT
END:VCALENDAR