BEGIN:VCALENDAR
VERSION:2.0
PRODID:-//Texas Forest Country Living - ECPv6.15.20//NONSGML v1.0//EN
CALSCALE:GREGORIAN
METHOD:PUBLISH
X-ORIGINAL-URL:https://www.texasforestcountryliving.com
X-WR-CALDESC:Events for Texas Forest Country Living
REFRESH-INTERVAL;VALUE=DURATION:PT1H
X-Robots-Tag:noindex
X-PUBLISHED-TTL:PT1H
BEGIN:VTIMEZONE
TZID:America/Chicago
BEGIN:DAYLIGHT
TZOFFSETFROM:-0600
TZOFFSETTO:-0500
TZNAME:CDT
DTSTART:20240310T080000
END:DAYLIGHT
BEGIN:STANDARD
TZOFFSETFROM:-0500
TZOFFSETTO:-0600
TZNAME:CST
DTSTART:20241103T070000
END:STANDARD
BEGIN:DAYLIGHT
TZOFFSETFROM:-0600
TZOFFSETTO:-0500
TZNAME:CDT
DTSTART:20250309T080000
END:DAYLIGHT
BEGIN:STANDARD
TZOFFSETFROM:-0500
TZOFFSETTO:-0600
TZNAME:CST
DTSTART:20251102T070000
END:STANDARD
BEGIN:DAYLIGHT
TZOFFSETFROM:-0600
TZOFFSETTO:-0500
TZNAME:CDT
DTSTART:20260308T080000
END:DAYLIGHT
BEGIN:STANDARD
TZOFFSETFROM:-0500
TZOFFSETTO:-0600
TZNAME:CST
DTSTART:20261101T070000
END:STANDARD
END:VTIMEZONE
BEGIN:VEVENT
DTSTART;TZID=America/Chicago:20251101T100000
DTEND;TZID=America/Chicago:20251101T140000
DTSTAMP:20260425T182909
CREATED:20251017T141610Z
LAST-MODIFIED:20251017T141612Z
UID:10003478-1761991200-1762005600@www.texasforestcountryliving.com
SUMMARY:Lufkin Creative's Heritage Festival 2025
DESCRIPTION:Celebrate culture\, creativity\, and community at the Heritage Festival 2025 in the heart of Downtown Lufkin! \n\n\n\nJoin us at Cotton Square for a vibrant day filled with:Artisan and handmade vendorsCultural performances and musicInteractive activities for familiesFood that celebrates diverse traditions \n\n\n\nThis annual event highlights the richness of heritage and creativity in our community and we’d love for you to be part of it. \n\n\n\nWhen: Saturday\, November 1\, 2025\, 10:00 a.m.–2:00 p.m.Where: Cotton Square\, Downtown LufkinMore Info & Vendor Applications Coming soon at: www.LufkinCreative.com \n\n\n\nBring your friends and family\, support local artists and makers\, and enjoy a celebration of culture in the heart of Lufkin!
URL:https://www.texasforestcountryliving.com/event/lufkin-creatives-heritage-festival-2025/
LOCATION:Cotton Square Park
CATEGORIES:Angelina County
ATTACH;FMTTYPE=image/jpeg:https://www.texasforestcountryliving.com/wp-content/uploads/2025/10/546057903_794856336819363_6775022915760270821_n.jpg
END:VEVENT
BEGIN:VEVENT
DTSTART;TZID=America/Chicago:20251102T190000
DTEND;TZID=America/Chicago:20251102T210000
DTSTAMP:20260425T182909
CREATED:20240402T134155Z
LAST-MODIFIED:20240402T134155Z
UID:10002911-1762110000-1762117200@www.texasforestcountryliving.com
SUMMARY:Karaoke at the American Legion (Nacogdoches County)
DESCRIPTION:How are your pipes? Do you enjoy singing? You need to check out Karaoke night at the American Legion! \nWhen: 1st Sunday night of every month @ 7:00 p.m.\nWhere: 1000 Brazos St. Crockett\, TX
URL:https://www.texasforestcountryliving.com/event/karaoke-at-the-american-legion-nacogdoches-county/2025-11-02/
LOCATION:1000 Brazos St. Crockett\, TX
CATEGORIES:Nacogdoches County
ATTACH;FMTTYPE=image/jpeg:https://www.texasforestcountryliving.com/wp-content/uploads/2024/04/434277375_816581700514520_6903279274589030022_n.jpg
END:VEVENT
BEGIN:VEVENT
DTSTART;TZID=America/Chicago:20251105T100000
DTEND;TZID=America/Chicago:20251106T120000
DTSTAMP:20260425T182909
CREATED:20251024T152901Z
LAST-MODIFIED:20251024T152907Z
UID:10003479-1762336800-1762430400@www.texasforestcountryliving.com
SUMMARY:Chamber University (Angelina County)
DESCRIPTION:Join us this November for Chamber University\, featuring two powerful learning sessions designed to help you lead smarter and serve stronger! \n\n\n\nNovember 5 – The AI Advantage: Lead Smarter\, Move Fasterwith Lee Miller\, MSGPR Ltd CoDiscover how AI is already transforming local businesses and simple ways you can start using it today. \n\n\n\nRegister: bit.ly/CU-110525 \n\n\n\nNovember 6 – Delivering Beyond the Transactionwith Chris Fleniken\, Real GraphicsLearn how to go beyond customer transactions to build lasting relationships and loyal customers. \n\n\n\nRegister: bit.ly/CU-110625 \n\n\n\nDon’t miss these two sessions packed with practical insight and local perspective! 
URL:https://www.texasforestcountryliving.com/event/chamber-university-angelina-county/
LOCATION:Lufkin/Angelina County Chamber of Commerce\, 1615 S. Chestnut\, Lufkin\, TX\, 75901\, United States
CATEGORIES:Angelina County
ATTACH;FMTTYPE=image/jpeg:https://www.texasforestcountryliving.com/wp-content/uploads/2025/10/566216537_1421347369993749_4230859998398659168_n.jpg
END:VEVENT
BEGIN:VEVENT
DTSTART;TZID=America/Chicago:20251106T080000
DTEND;TZID=America/Chicago:20251106T170000
DTSTAMP:20260425T182909
CREATED:20251106T110420Z
LAST-MODIFIED:20251106T110429Z
UID:10003484-1762416000-1762448400@www.texasforestcountryliving.com
SUMMARY:Tia's Tales: A Reading Event for All Ages (Jasper County)
DESCRIPTION:Tia Johnson with 12 News Daybreak will host Tia’s Tales in partnership with the Jasper Public Library this Saturday November 8th starting at 11 am until 1 pm. Located in the Kiwanis Park behind the Library on 175 East Water Street in Jasper. \n\n\n\nAfter story time\, there will be a dinosaur activity where participants will dig for dinosaur eggs in a ball pit set up inside the park. \n\n\n\nThis is an reading event for all ages! \n\n\n\nHope to see you there!
URL:https://www.texasforestcountryliving.com/event/tias-tales-a-reading-event-for-all-ages-jasper-county/
LOCATION:Kiwanis Park\, 1117 S Timberland Dr\, Lufkin\, Texas
CATEGORIES:Jasper County
ATTACH;FMTTYPE=image/jpeg:https://www.texasforestcountryliving.com/wp-content/uploads/2025/11/577415533_122219061404261043_1210948592501155166_n.jpg
ORGANIZER;CN="City of Jasper":MAILTO:jaspercc@jaspercoc.org
END:VEVENT
BEGIN:VEVENT
DTSTART;TZID=America/Chicago:20251106T180000
DTEND;TZID=America/Chicago:20251106T200000
DTSTAMP:20260425T182909
CREATED:20250304T163313Z
LAST-MODIFIED:20250304T163802Z
UID:10003181-1762452000-1762459200@www.texasforestcountryliving.com
SUMMARY:VFW Bingo (Sabine County)
DESCRIPTION:Join us for a fun-filled Bingo Night at the VFW Hall in Hemphill! Enjoy an evening of friendly competition\, great company\, and the chance to win. \nWhether you’re a seasoned player or new to the game\, everyone is welcome to join in the fun. Doors open at 6:00 PM \nLocation:\nVFW Post 10351\n3049 TX-184\, Hemphill\, TX 75948\, USA \nDate and Time Information:\nEvery Thursday from 6 pm to 8 pm
URL:https://www.texasforestcountryliving.com/event/vfw-bingo-sabine-county/2025-11-06/
LOCATION:VFW Post 10351 in Hemphill\, TX
CATEGORIES:Sabine County
ATTACH;FMTTYPE=image/webp:https://www.texasforestcountryliving.com/wp-content/uploads/2025/03/VFW-Bingo.webp
END:VEVENT
BEGIN:VEVENT
DTSTART;TZID=America/Chicago:20251113T180000
DTEND;TZID=America/Chicago:20251113T200000
DTSTAMP:20260425T182909
CREATED:20250304T163313Z
LAST-MODIFIED:20250304T163802Z
UID:10003182-1763056800-1763064000@www.texasforestcountryliving.com
SUMMARY:VFW Bingo (Sabine County)
DESCRIPTION:Join us for a fun-filled Bingo Night at the VFW Hall in Hemphill! Enjoy an evening of friendly competition\, great company\, and the chance to win. \nWhether you’re a seasoned player or new to the game\, everyone is welcome to join in the fun. Doors open at 6:00 PM \nLocation:\nVFW Post 10351\n3049 TX-184\, Hemphill\, TX 75948\, USA \nDate and Time Information:\nEvery Thursday from 6 pm to 8 pm
URL:https://www.texasforestcountryliving.com/event/vfw-bingo-sabine-county/2025-11-13/
LOCATION:VFW Post 10351 in Hemphill\, TX
CATEGORIES:Sabine County
ATTACH;FMTTYPE=image/webp:https://www.texasforestcountryliving.com/wp-content/uploads/2025/03/VFW-Bingo.webp
END:VEVENT
BEGIN:VEVENT
DTSTART;TZID=America/Chicago:20251114T080000
DTEND;TZID=America/Chicago:20251114T170000
DTSTAMP:20260425T182909
CREATED:20251114T144323Z
LAST-MODIFIED:20251114T144326Z
UID:10003485-1763107200-1763139600@www.texasforestcountryliving.com
SUMMARY:Power Networking Breakfast (Angelina County)
DESCRIPTION:Join us Friday\, November 21\, 2025\, for the Power Networking Breakfast presented by Angelina College Small Business Development Center! \n\n\n\nThis month’s topic\, Empowering Small Business: How the SBDC Supports Economic Growth\, highlights how the SBDC drives entrepreneurship and strengthens our local economy. \n\n\n\nAttendance is free! While registration is not required\, it’s strongly encouraged to help us plan accordingly. Register today >>> bit.ly/PNB-1125
URL:https://www.texasforestcountryliving.com/event/power-networking-breakfast-angelina-county-7/
LOCATION:Lufkin/Angelina County Chamber of Commerce\, 1615 S. Chestnut\, Lufkin\, TX\, 75901\, United States
CATEGORIES:Angelina County
ATTACH;FMTTYPE=image/jpeg:https://www.texasforestcountryliving.com/wp-content/uploads/2025/11/580118903_1440457168082769_1866846576904785375_n.jpg
END:VEVENT
BEGIN:VEVENT
DTSTART;TZID=America/Chicago:20251114T080000
DTEND;TZID=America/Chicago:20251114T170000
DTSTAMP:20260425T182909
CREATED:20251114T145951Z
LAST-MODIFIED:20251114T145953Z
UID:10003486-1763107200-1763139600@www.texasforestcountryliving.com
SUMMARY:Sabine County Christmas Decorating Contest
DESCRIPTION:HOLIDAY IN THE PINESCATEGORIES:BUSINESS: Window and overall sub-categoriesRESIDENTIALTheme: be creativeFirst-place trophies and chamber membership for a year.MUST COMPLETE ENTRY FORM TO BE INCLUDEDJudging will be done by 3 from outside our County.SABINE COUNTY. ALL ARE INVITED TO PARTICIPATE \n\n\n\nDetails on the flyer and Entry Form
URL:https://www.texasforestcountryliving.com/event/sabine-county-christmas-decorating-contest/
LOCATION:Sabine County
CATEGORIES:Sabine County
ATTACH;FMTTYPE=image/jpeg:https://www.texasforestcountryliving.com/wp-content/uploads/2025/11/image-gen-13.jpg
END:VEVENT
BEGIN:VEVENT
DTSTART;TZID=America/Chicago:20251115T080000
DTEND;TZID=America/Chicago:20251115T170000
DTSTAMP:20260425T182909
CREATED:20251105T141333Z
LAST-MODIFIED:20251105T141336Z
UID:10003482-1763193600-1763226000@www.texasforestcountryliving.com
SUMMARY:Rayburn Pickleball Fall Classic (Jasper County)
DESCRIPTION:We invite you to join us for our Rayburn Pickleball Fall Classic on November 15\, 2025! \n\n\n\nThis round-robin tournament is located at beautiful Rayburn Resort in Brookeland\, Texas. Visit www.pickleballtournaments.com to register. \n\n\n\nOur Rayburn Fall Classic has something for everyone\, no matter what skill or experience you have. Whether you are learning the basics or improving your game\, or looking for intense competition\, this is the perfect environment to challenge yourself and track your progress. Hydration stations will be available for participants to stay refreshed\, \n\n\n\nA 10% discount on rooms for participants for the weekend will be provided.Friday night Rayburn Resort will have a welcoming party at no charge for you and your spouse\, including free hors d’oeuvres .Saturday we will have a social party for all players and spouses at no charge\, including free hors d’oeuvres and free live entertainment
URL:https://www.texasforestcountryliving.com/event/rayburn-pickleball-fall-classic-jasper-county/
LOCATION:Rayburn Resort\, 2376 Wingate Blvd\, Brookeland\, TX\, 75931\, United States
CATEGORIES:Jasper County
ATTACH;FMTTYPE=image/jpeg:https://www.texasforestcountryliving.com/wp-content/uploads/2025/11/572353434_1621292755930474_8376573608903492908_n.jpg
ORGANIZER;CN="Rayburn Resort":MAILTO:info@RayburnResorts.com
END:VEVENT
BEGIN:VEVENT
DTSTART;TZID=America/Chicago:20251120T180000
DTEND;TZID=America/Chicago:20251120T200000
DTSTAMP:20260425T182909
CREATED:20250304T163313Z
LAST-MODIFIED:20250304T163802Z
UID:10003183-1763661600-1763668800@www.texasforestcountryliving.com
SUMMARY:VFW Bingo (Sabine County)
DESCRIPTION:Join us for a fun-filled Bingo Night at the VFW Hall in Hemphill! Enjoy an evening of friendly competition\, great company\, and the chance to win. \nWhether you’re a seasoned player or new to the game\, everyone is welcome to join in the fun. Doors open at 6:00 PM \nLocation:\nVFW Post 10351\n3049 TX-184\, Hemphill\, TX 75948\, USA \nDate and Time Information:\nEvery Thursday from 6 pm to 8 pm
URL:https://www.texasforestcountryliving.com/event/vfw-bingo-sabine-county/2025-11-20/
LOCATION:VFW Post 10351 in Hemphill\, TX
CATEGORIES:Sabine County
ATTACH;FMTTYPE=image/webp:https://www.texasforestcountryliving.com/wp-content/uploads/2025/03/VFW-Bingo.webp
END:VEVENT
BEGIN:VEVENT
DTSTART;TZID=America/Chicago:20251122T100000
DTEND;TZID=America/Chicago:20251122T160000
DTSTAMP:20260425T182909
CREATED:20250729T131717Z
LAST-MODIFIED:20250729T131719Z
UID:10003449-1763805600-1763827200@www.texasforestcountryliving.com
SUMMARY:Christmas in Crockett (Houston County)
DESCRIPTION:Christmas … in July? \n\n\n\nThe outdoor temperatures might be sweltering but Crockett Area Chamber of Commerce is gearing up for our Annual Christmas in Crockett taking place on Saturday\, November 22nd from 10 am to 4 pm. This is the largest and most exciting event of the year! \n\n\n\nArtsCraftsFoodEntertainmentCar show! \n\n\n\nWe are celebrating a long-standing tradition of 44 years on the Square and are preparing to host over 300 vendors. Join us that day and stay to explore all that East Texas has to offer. \n\n\n\nIf you are interested in becoming a vendor\, complete your application through the link below to reserve your spot! \n\n\n\n\nhttps://form.jotform.com/250156533644152\n\n\n\n\nIf you’re not a fan of online forms\, feel free to come by the Chamber office and pick up a printed one for you to complete. If you were a vendor last year and would like to request the same booth as last year\, please complete your application and submit with payment by August 31st
URL:https://www.texasforestcountryliving.com/event/christmas-in-crockett-houston-county/
LOCATION:Downtown Crockett\, 401 E Houston Ave\, Crockett\, TX\, 75835\, United States
ATTACH;FMTTYPE=image/jpeg:https://www.texasforestcountryliving.com/wp-content/uploads/2025/07/518199936_1155047016667985_4620348829076549332_n.jpg
END:VEVENT
BEGIN:VEVENT
DTSTART;TZID=America/Chicago:20251122T160000
DTEND;TZID=America/Chicago:20251122T190000
DTSTAMP:20260425T182909
CREATED:20251030T124136Z
LAST-MODIFIED:20251030T124213Z
UID:10003480-1763827200-1763838000@www.texasforestcountryliving.com
SUMMARY:Handbag Bingo for The Empty Stocking Fund (Sabine County)
DESCRIPTION:Join us for Handbag Bingo for the Empty Stocking Fund! \n\n\n\nPlay for designer bags and help Sabine County kids who are in need. \n\n\n\n$40 entry\, $10 blackout game (bring cash for the blackout game)
URL:https://www.texasforestcountryliving.com/event/handbag-bingo-for-the-empty-stocking-fund-sabine-county/
LOCATION:101 N Oak Street\, Hemphill\, TX\, United States\, Texas 75948
CATEGORIES:Sabine County
ATTACH;FMTTYPE=image/jpeg:https://www.texasforestcountryliving.com/wp-content/uploads/2025/10/571375788_1432101321907045_3660835606997255178_n.jpg
END:VEVENT
BEGIN:VEVENT
DTSTART;TZID=America/Chicago:20251127T180000
DTEND;TZID=America/Chicago:20251127T200000
DTSTAMP:20260425T182909
CREATED:20250304T163313Z
LAST-MODIFIED:20250304T163802Z
UID:10003184-1764266400-1764273600@www.texasforestcountryliving.com
SUMMARY:VFW Bingo (Sabine County)
DESCRIPTION:Join us for a fun-filled Bingo Night at the VFW Hall in Hemphill! Enjoy an evening of friendly competition\, great company\, and the chance to win. \nWhether you’re a seasoned player or new to the game\, everyone is welcome to join in the fun. Doors open at 6:00 PM \nLocation:\nVFW Post 10351\n3049 TX-184\, Hemphill\, TX 75948\, USA \nDate and Time Information:\nEvery Thursday from 6 pm to 8 pm
URL:https://www.texasforestcountryliving.com/event/vfw-bingo-sabine-county/2025-11-27/
LOCATION:VFW Post 10351 in Hemphill\, TX
CATEGORIES:Sabine County
ATTACH;FMTTYPE=image/webp:https://www.texasforestcountryliving.com/wp-content/uploads/2025/03/VFW-Bingo.webp
END:VEVENT
END:VCALENDAR