BEGIN:VCALENDAR
VERSION:2.0
PRODID:-//Texas Forest Country Living - ECPv6.15.20//NONSGML v1.0//EN
CALSCALE:GREGORIAN
METHOD:PUBLISH
X-ORIGINAL-URL:https://www.texasforestcountryliving.com
X-WR-CALDESC:Events for Texas Forest Country Living
REFRESH-INTERVAL;VALUE=DURATION:PT1H
X-Robots-Tag:noindex
X-PUBLISHED-TTL:PT1H
BEGIN:VTIMEZONE
TZID:America/Chicago
BEGIN:DAYLIGHT
TZOFFSETFROM:-0600
TZOFFSETTO:-0500
TZNAME:CDT
DTSTART:20250309T080000
END:DAYLIGHT
BEGIN:STANDARD
TZOFFSETFROM:-0500
TZOFFSETTO:-0600
TZNAME:CST
DTSTART:20251102T070000
END:STANDARD
BEGIN:DAYLIGHT
TZOFFSETFROM:-0600
TZOFFSETTO:-0500
TZNAME:CDT
DTSTART:20260308T080000
END:DAYLIGHT
BEGIN:STANDARD
TZOFFSETFROM:-0500
TZOFFSETTO:-0600
TZNAME:CST
DTSTART:20261101T070000
END:STANDARD
BEGIN:DAYLIGHT
TZOFFSETFROM:-0600
TZOFFSETTO:-0500
TZNAME:CDT
DTSTART:20270314T080000
END:DAYLIGHT
BEGIN:STANDARD
TZOFFSETFROM:-0500
TZOFFSETTO:-0600
TZNAME:CST
DTSTART:20271107T070000
END:STANDARD
END:VTIMEZONE
BEGIN:VEVENT
DTSTART;TZID=America/Chicago:20260301T190000
DTEND;TZID=America/Chicago:20260301T210000
DTSTAMP:20260425T095726
CREATED:20240402T134155Z
LAST-MODIFIED:20240402T134155Z
UID:10002915-1772391600-1772398800@www.texasforestcountryliving.com
SUMMARY:Karaoke at the American Legion (Nacogdoches County)
DESCRIPTION:How are your pipes? Do you enjoy singing? You need to check out Karaoke night at the American Legion! \nWhen: 1st Sunday night of every month @ 7:00 p.m.\nWhere: 1000 Brazos St. Crockett\, TX
URL:https://www.texasforestcountryliving.com/event/karaoke-at-the-american-legion-nacogdoches-county/2026-03-01/
LOCATION:1000 Brazos St. Crockett\, TX
CATEGORIES:Nacogdoches County
ATTACH;FMTTYPE=image/jpeg:https://www.texasforestcountryliving.com/wp-content/uploads/2024/04/434277375_816581700514520_6903279274589030022_n.jpg
END:VEVENT
BEGIN:VEVENT
DTSTART;TZID=America/Chicago:20260305T180000
DTEND;TZID=America/Chicago:20260305T200000
DTSTAMP:20260425T095726
CREATED:20250304T163313Z
LAST-MODIFIED:20250304T163802Z
UID:10003198-1772733600-1772740800@www.texasforestcountryliving.com
SUMMARY:VFW Bingo (Sabine County)
DESCRIPTION:Join us for a fun-filled Bingo Night at the VFW Hall in Hemphill! Enjoy an evening of friendly competition\, great company\, and the chance to win. \nWhether you’re a seasoned player or new to the game\, everyone is welcome to join in the fun. Doors open at 6:00 PM \nLocation:\nVFW Post 10351\n3049 TX-184\, Hemphill\, TX 75948\, USA \nDate and Time Information:\nEvery Thursday from 6 pm to 8 pm
URL:https://www.texasforestcountryliving.com/event/vfw-bingo-sabine-county/2026-03-05/
LOCATION:VFW Post 10351 in Hemphill\, TX
CATEGORIES:Sabine County
ATTACH;FMTTYPE=image/webp:https://www.texasforestcountryliving.com/wp-content/uploads/2025/03/VFW-Bingo.webp
END:VEVENT
BEGIN:VEVENT
DTSTART;TZID=America/Chicago:20260312T180000
DTEND;TZID=America/Chicago:20260312T200000
DTSTAMP:20260425T095726
CREATED:20250304T163313Z
LAST-MODIFIED:20250304T163802Z
UID:10003199-1773338400-1773345600@www.texasforestcountryliving.com
SUMMARY:VFW Bingo (Sabine County)
DESCRIPTION:Join us for a fun-filled Bingo Night at the VFW Hall in Hemphill! Enjoy an evening of friendly competition\, great company\, and the chance to win. \nWhether you’re a seasoned player or new to the game\, everyone is welcome to join in the fun. Doors open at 6:00 PM \nLocation:\nVFW Post 10351\n3049 TX-184\, Hemphill\, TX 75948\, USA \nDate and Time Information:\nEvery Thursday from 6 pm to 8 pm
URL:https://www.texasforestcountryliving.com/event/vfw-bingo-sabine-county/2026-03-12/
LOCATION:VFW Post 10351 in Hemphill\, TX
CATEGORIES:Sabine County
ATTACH;FMTTYPE=image/webp:https://www.texasforestcountryliving.com/wp-content/uploads/2025/03/VFW-Bingo.webp
END:VEVENT
BEGIN:VEVENT
DTSTART;TZID=America/Chicago:20260319T180000
DTEND;TZID=America/Chicago:20260319T200000
DTSTAMP:20260425T095726
CREATED:20250304T163313Z
LAST-MODIFIED:20250304T163802Z
UID:10003200-1773943200-1773950400@www.texasforestcountryliving.com
SUMMARY:VFW Bingo (Sabine County)
DESCRIPTION:Join us for a fun-filled Bingo Night at the VFW Hall in Hemphill! Enjoy an evening of friendly competition\, great company\, and the chance to win. \nWhether you’re a seasoned player or new to the game\, everyone is welcome to join in the fun. Doors open at 6:00 PM \nLocation:\nVFW Post 10351\n3049 TX-184\, Hemphill\, TX 75948\, USA \nDate and Time Information:\nEvery Thursday from 6 pm to 8 pm
URL:https://www.texasforestcountryliving.com/event/vfw-bingo-sabine-county/2026-03-19/
LOCATION:VFW Post 10351 in Hemphill\, TX
CATEGORIES:Sabine County
ATTACH;FMTTYPE=image/webp:https://www.texasforestcountryliving.com/wp-content/uploads/2025/03/VFW-Bingo.webp
END:VEVENT
BEGIN:VEVENT
DTSTART;TZID=America/Chicago:20260326T180000
DTEND;TZID=America/Chicago:20260326T200000
DTSTAMP:20260425T095726
CREATED:20250304T163313Z
LAST-MODIFIED:20250304T163802Z
UID:10003201-1774548000-1774555200@www.texasforestcountryliving.com
SUMMARY:VFW Bingo (Sabine County)
DESCRIPTION:Join us for a fun-filled Bingo Night at the VFW Hall in Hemphill! Enjoy an evening of friendly competition\, great company\, and the chance to win. \nWhether you’re a seasoned player or new to the game\, everyone is welcome to join in the fun. Doors open at 6:00 PM \nLocation:\nVFW Post 10351\n3049 TX-184\, Hemphill\, TX 75948\, USA \nDate and Time Information:\nEvery Thursday from 6 pm to 8 pm
URL:https://www.texasforestcountryliving.com/event/vfw-bingo-sabine-county/2026-03-26/
LOCATION:VFW Post 10351 in Hemphill\, TX
CATEGORIES:Sabine County
ATTACH;FMTTYPE=image/webp:https://www.texasforestcountryliving.com/wp-content/uploads/2025/03/VFW-Bingo.webp
END:VEVENT
BEGIN:VEVENT
DTSTART;TZID=America/Chicago:20260327T180000
DTEND;TZID=America/Chicago:20260327T200000
DTSTAMP:20260425T095726
CREATED:20260325T130349Z
LAST-MODIFIED:20260325T130440Z
UID:10003511-1774634400-1774641600@www.texasforestcountryliving.com
SUMMARY:Dancing with The Dinos (Angelina County)
DESCRIPTION:Something BIG is coming in 2026! The Naranjo Museum annual fundraising gala\, Dancing with Dinos is scheduled for Friday\, March 27 starting at 6:00pm at the beautiful Pitser Garrison Convention Center in Lufkin. The 2026 theme is “Carnivale!” \n\n\n\nFor ages 21+Tickets and Tables are on sale now!Individual tickets are $75Tables with seating for 8 are $700Sponsorships are available \n\n\n\nTo purchase tickets for this event\, please call the Naranjo Museum at: 936-639-3466or visit: https://naranjomuseum.org/support/dancing-with-dinos-gala/
URL:https://www.texasforestcountryliving.com/event/dancing-with-the-dinos-angelina-county/
LOCATION:Pitser Garrison Convention Center
CATEGORIES:Angelina County
ATTACH;FMTTYPE=image/jpeg:https://www.texasforestcountryliving.com/wp-content/uploads/2026/03/612802436_1560110212784617_7483645538463894965_n.jpg
END:VEVENT
BEGIN:VEVENT
DTSTART;TZID=America/Chicago:20260328T090000
DTEND;TZID=America/Chicago:20260328T110000
DTSTAMP:20260425T095726
CREATED:20260204T132205Z
LAST-MODIFIED:20260204T132211Z
UID:10003507-1774688400-1774695600@www.texasforestcountryliving.com
SUMMARY:Color Me Drug-Free: An Obstacle Challenge Course
DESCRIPTION:On Saturday\, March 28\, from 9:00 AM to 11:00 AM\, the Angelina County Drug-Free All Stars will host Color MeDrug-Free: An Obstacle Challenge Course to encourage students to live a healthy\, substance-free life. Participants will go through a fun obstacle course — and yes\, color will be flying as students are marked drug-free! All participants will receive a free white t-shirt to wear during the event\, and free swag will be given out while supplies last. Join us at the Boys & Girls Club of Lufkin field on Saturday\, March 28. For more information about this free event or how to register\, contact The Coalition at 936-634-9308 or follow @TheCoalition936 on social media.
URL:https://www.texasforestcountryliving.com/event/color-me-drug-free-an-obstacle-challenge-course/
LOCATION:Boys & Girls Club\, 909 South Angelina Blvd\, Lufkin\, TX\, 75901\, United States
ATTACH;FMTTYPE=image/jpeg:https://www.texasforestcountryliving.com/wp-content/uploads/2026/02/2025-Color-Me-flyer-1.jpg
ORGANIZER;CN="The Coalition":MAILTO:info@angelinacoalition.org
END:VEVENT
END:VCALENDAR