BEGIN:VCALENDAR
VERSION:2.0
PRODID:-//Texas Forest Country Living - ECPv6.15.20//NONSGML v1.0//EN
CALSCALE:GREGORIAN
METHOD:PUBLISH
X-ORIGINAL-URL:https://www.texasforestcountryliving.com
X-WR-CALDESC:Events for Texas Forest Country Living
REFRESH-INTERVAL;VALUE=DURATION:PT1H
X-Robots-Tag:noindex
X-PUBLISHED-TTL:PT1H
BEGIN:VTIMEZONE
TZID:America/Chicago
BEGIN:DAYLIGHT
TZOFFSETFROM:-0600
TZOFFSETTO:-0500
TZNAME:CDT
DTSTART:20210314T080000
END:DAYLIGHT
BEGIN:STANDARD
TZOFFSETFROM:-0500
TZOFFSETTO:-0600
TZNAME:CST
DTSTART:20211107T070000
END:STANDARD
BEGIN:DAYLIGHT
TZOFFSETFROM:-0600
TZOFFSETTO:-0500
TZNAME:CDT
DTSTART:20220313T080000
END:DAYLIGHT
BEGIN:STANDARD
TZOFFSETFROM:-0500
TZOFFSETTO:-0600
TZNAME:CST
DTSTART:20221106T070000
END:STANDARD
BEGIN:DAYLIGHT
TZOFFSETFROM:-0600
TZOFFSETTO:-0500
TZNAME:CDT
DTSTART:20230312T080000
END:DAYLIGHT
BEGIN:STANDARD
TZOFFSETFROM:-0500
TZOFFSETTO:-0600
TZNAME:CST
DTSTART:20231105T070000
END:STANDARD
END:VTIMEZONE
BEGIN:VEVENT
DTSTART;TZID=America/Chicago:20221008T160000
DTEND;TZID=America/Chicago:20221008T180000
DTSTAMP:20260422T034512
CREATED:20220930T194834Z
LAST-MODIFIED:20220930T194834Z
UID:10000194-1665244800-1665252000@www.texasforestcountryliving.com
SUMMARY:936 Rydaz 1st Annual Trail Ride (Nacogdoches County)
DESCRIPTION:936 Rydaz 1st Annual Trail Ride\n 
URL:https://www.texasforestcountryliving.com/event/936-rydaz-1st-annual-trail-ride-nacogdoches-county/
LOCATION:Nacogdoches\, Texas\, Nacogdoches\, United States
CATEGORIES:Nacogdoches County
ATTACH;FMTTYPE=image/jpeg:https://www.texasforestcountryliving.com/wp-content/uploads/2022/09/ef197c35dabc2009c15b6018e81725cece833eb25731ccdecc149406b97199fc-rimg-w640-h960-gmir.jpg
ORGANIZER;CN="Jae x Breeze":MAILTO:jaexbreeze@gmail.com
END:VEVENT
END:VCALENDAR