BEGIN:VCALENDAR
VERSION:2.0
PRODID:-//Texas Forest Country Living - ECPv6.15.20//NONSGML v1.0//EN
CALSCALE:GREGORIAN
METHOD:PUBLISH
X-WR-CALNAME:Texas Forest Country Living
X-ORIGINAL-URL:https://www.texasforestcountryliving.com
X-WR-CALDESC:Events for Texas Forest Country Living
REFRESH-INTERVAL;VALUE=DURATION:PT1H
X-Robots-Tag:noindex
X-PUBLISHED-TTL:PT1H
BEGIN:VTIMEZONE
TZID:America/Chicago
BEGIN:DAYLIGHT
TZOFFSETFROM:-0600
TZOFFSETTO:-0500
TZNAME:CDT
DTSTART:20240310T080000
END:DAYLIGHT
BEGIN:STANDARD
TZOFFSETFROM:-0500
TZOFFSETTO:-0600
TZNAME:CST
DTSTART:20241103T070000
END:STANDARD
BEGIN:DAYLIGHT
TZOFFSETFROM:-0600
TZOFFSETTO:-0500
TZNAME:CDT
DTSTART:20250309T080000
END:DAYLIGHT
BEGIN:STANDARD
TZOFFSETFROM:-0500
TZOFFSETTO:-0600
TZNAME:CST
DTSTART:20251102T070000
END:STANDARD
BEGIN:DAYLIGHT
TZOFFSETFROM:-0600
TZOFFSETTO:-0500
TZNAME:CDT
DTSTART:20260308T080000
END:DAYLIGHT
BEGIN:STANDARD
TZOFFSETFROM:-0500
TZOFFSETTO:-0600
TZNAME:CST
DTSTART:20261101T070000
END:STANDARD
END:VTIMEZONE
BEGIN:VEVENT
DTSTART;TZID=America/Chicago:20251206T090000
DTEND;TZID=America/Chicago:20251206T140000
DTSTAMP:20260421T174531
CREATED:20251203T121856Z
LAST-MODIFIED:20251203T122015Z
UID:10003490-1765011600-1765029600@www.texasforestcountryliving.com
SUMMARY:PATV Powersports Grand Opening (Jasper County)
DESCRIPTION:YOU’RE INVITED \n\n\n\nJoin us for our Grand Opening Celebration featuring Music\, a Polaris Inc. Sportsman 450 ATV Giveaway\, and delicious offerings from Wing Junkiez Concession’s and Ken’s Treats. Witness the ribbon-cutting ceremony held by the Jasper-Lake Sam Rayburn Area Chamber of Commerce. Ready to enjoy a fun-filled day? We can’t wait to bring the community together to celebrate. \n\n\n\nTimeline (December 6th\, 2025)• 9 AM- Grand Opening Starts•10AM-Ribbon Cutting Ceremony Begins•11-2 PM- Lunch and Sweet Treats by Wing Junkies and Ken’s Treats.•12PM-Winner Announced for ATV Giveaway• 2 PM-Grand Opening Ends \n\n\n\nHow to enter the Giveaway?1.) Can enter at both locations (PATV Powersports/PATV Powersports-Jasper)2.) Purchase a new/used unit=5 Entries3.) Spend $500+ in Parts or Service=1 Entry \n\n\n\nATV Giveaway Entries start October 22-December 6th\, 2025
URL:https://www.texasforestcountryliving.com/event/patv-powersports-grand-opening-jasper-county/
LOCATION:PATV Powersports-Jasper
CATEGORIES:Jasper County
ATTACH;FMTTYPE=image/jpeg:https://www.texasforestcountryliving.com/wp-content/uploads/2025/12/584591992_122152312742914665_1231194877287053158_n-1.jpg
END:VEVENT
END:VCALENDAR