BEGIN:VCALENDAR
VERSION:2.0
PRODID:-//Texas Forest Country Living - ECPv6.15.20//NONSGML v1.0//EN
CALSCALE:GREGORIAN
METHOD:PUBLISH
X-ORIGINAL-URL:https://www.texasforestcountryliving.com
X-WR-CALDESC:Events for Texas Forest Country Living
REFRESH-INTERVAL;VALUE=DURATION:PT1H
X-Robots-Tag:noindex
X-PUBLISHED-TTL:PT1H
BEGIN:VTIMEZONE
TZID:America/Chicago
BEGIN:DAYLIGHT
TZOFFSETFROM:-0600
TZOFFSETTO:-0500
TZNAME:CDT
DTSTART:20230312T080000
END:DAYLIGHT
BEGIN:STANDARD
TZOFFSETFROM:-0500
TZOFFSETTO:-0600
TZNAME:CST
DTSTART:20231105T070000
END:STANDARD
BEGIN:DAYLIGHT
TZOFFSETFROM:-0600
TZOFFSETTO:-0500
TZNAME:CDT
DTSTART:20240310T080000
END:DAYLIGHT
BEGIN:STANDARD
TZOFFSETFROM:-0500
TZOFFSETTO:-0600
TZNAME:CST
DTSTART:20241103T070000
END:STANDARD
BEGIN:DAYLIGHT
TZOFFSETFROM:-0600
TZOFFSETTO:-0500
TZNAME:CDT
DTSTART:20250309T080000
END:DAYLIGHT
BEGIN:STANDARD
TZOFFSETFROM:-0500
TZOFFSETTO:-0600
TZNAME:CST
DTSTART:20251102T070000
END:STANDARD
END:VTIMEZONE
BEGIN:VEVENT
DTSTART;TZID=America/Chicago:20240816T100000
DTEND;TZID=America/Chicago:20240816T113000
DTSTAMP:20260419T143123
CREATED:20240815T152104Z
LAST-MODIFIED:20240815T152104Z
UID:10003041-1723802400-1723807800@www.texasforestcountryliving.com
SUMMARY:Robin Futch & Kent White - Dream Vacations with A Ribbon Cutting (Angelina County)
DESCRIPTION:Join us TOMORROW\, Friday\, August 16 @ 10 AM as we celebrate Robin Futch & Kent White – Dream Vacations with a ribbon cutting.1615 S. Chestnut | LufkinWe hope to see you there!
URL:https://www.texasforestcountryliving.com/event/robin-futch-kent-white-dream-vacations-with-a-ribbon-cutting-angelina-county/
LOCATION:1615 S. Chestnut | Lufkin
CATEGORIES:Angelina County
ATTACH;FMTTYPE=image/jpeg:https://www.texasforestcountryliving.com/wp-content/uploads/2024/08/455365678_1042787187849771_4821283843899296610_n-1.jpg
END:VEVENT
END:VCALENDAR