BEGIN:VCALENDAR
VERSION:2.0
PRODID:-//Texas Forest Country Living - ECPv6.15.20//NONSGML v1.0//EN
CALSCALE:GREGORIAN
METHOD:PUBLISH
X-WR-CALNAME:Texas Forest Country Living
X-ORIGINAL-URL:https://www.texasforestcountryliving.com
X-WR-CALDESC:Events for Texas Forest Country Living
REFRESH-INTERVAL;VALUE=DURATION:PT1H
X-Robots-Tag:noindex
X-PUBLISHED-TTL:PT1H
BEGIN:VTIMEZONE
TZID:America/Chicago
BEGIN:DAYLIGHT
TZOFFSETFROM:-0600
TZOFFSETTO:-0500
TZNAME:CDT
DTSTART:20250309T080000
END:DAYLIGHT
BEGIN:STANDARD
TZOFFSETFROM:-0500
TZOFFSETTO:-0600
TZNAME:CST
DTSTART:20251102T070000
END:STANDARD
BEGIN:DAYLIGHT
TZOFFSETFROM:-0600
TZOFFSETTO:-0500
TZNAME:CDT
DTSTART:20260308T080000
END:DAYLIGHT
BEGIN:STANDARD
TZOFFSETFROM:-0500
TZOFFSETTO:-0600
TZNAME:CST
DTSTART:20261101T070000
END:STANDARD
BEGIN:DAYLIGHT
TZOFFSETFROM:-0600
TZOFFSETTO:-0500
TZNAME:CDT
DTSTART:20270314T080000
END:DAYLIGHT
BEGIN:STANDARD
TZOFFSETFROM:-0500
TZOFFSETTO:-0600
TZNAME:CST
DTSTART:20271107T070000
END:STANDARD
END:VTIMEZONE
BEGIN:VEVENT
DTSTART;TZID=America/Chicago:20260115T173000
DTEND;TZID=America/Chicago:20260115T190000
DTSTAMP:20260419T184930
CREATED:20260107T132500Z
LAST-MODIFIED:20260107T143855Z
UID:10003502-1768498200-1768503600@www.texasforestcountryliving.com
SUMMARY:Alive After Five hosted by Cason Monk-Metcalf Funeral Directors (Nacogdoches County)
DESCRIPTION:You are invited to join Alive After Five! \n\n\n\nAll Chamber members are entered in a $900 cash prize drawing – but you must be present to win. \n\n\n\nEnjoy live music\, refreshments and chances to win door prizes at The Chamber’s monthly business-after-hours event.
URL:https://www.texasforestcountryliving.com/event/alive-after-five-hosted-by-cason-monk-metcalf-funeral-directors-nacogdoches-county/
LOCATION:5400 North St.
CATEGORIES:Nacogdoches County
ATTACH;FMTTYPE=image/jpeg:https://www.texasforestcountryliving.com/wp-content/uploads/2026/01/unnamed-10.jpg
END:VEVENT
END:VCALENDAR