BEGIN:VCALENDAR
VERSION:2.0
PRODID:-//Texas Forest Country Living - ECPv6.15.20//NONSGML v1.0//EN
CALSCALE:GREGORIAN
METHOD:PUBLISH
X-ORIGINAL-URL:https://www.texasforestcountryliving.com
X-WR-CALDESC:Events for Texas Forest Country Living
REFRESH-INTERVAL;VALUE=DURATION:PT1H
X-Robots-Tag:noindex
X-PUBLISHED-TTL:PT1H
BEGIN:VTIMEZONE
TZID:America/Chicago
BEGIN:DAYLIGHT
TZOFFSETFROM:-0600
TZOFFSETTO:-0500
TZNAME:CDT
DTSTART:20210314T080000
END:DAYLIGHT
BEGIN:STANDARD
TZOFFSETFROM:-0500
TZOFFSETTO:-0600
TZNAME:CST
DTSTART:20211107T070000
END:STANDARD
BEGIN:DAYLIGHT
TZOFFSETFROM:-0600
TZOFFSETTO:-0500
TZNAME:CDT
DTSTART:20220313T080000
END:DAYLIGHT
BEGIN:STANDARD
TZOFFSETFROM:-0500
TZOFFSETTO:-0600
TZNAME:CST
DTSTART:20221106T070000
END:STANDARD
BEGIN:DAYLIGHT
TZOFFSETFROM:-0600
TZOFFSETTO:-0500
TZNAME:CDT
DTSTART:20230312T080000
END:DAYLIGHT
BEGIN:STANDARD
TZOFFSETFROM:-0500
TZOFFSETTO:-0600
TZNAME:CST
DTSTART:20231105T070000
END:STANDARD
BEGIN:DAYLIGHT
TZOFFSETFROM:-0600
TZOFFSETTO:-0500
TZNAME:CDT
DTSTART:20240310T080000
END:DAYLIGHT
BEGIN:STANDARD
TZOFFSETFROM:-0500
TZOFFSETTO:-0600
TZNAME:CST
DTSTART:20241103T070000
END:STANDARD
BEGIN:DAYLIGHT
TZOFFSETFROM:-0600
TZOFFSETTO:-0500
TZNAME:CDT
DTSTART:20250309T080000
END:DAYLIGHT
BEGIN:STANDARD
TZOFFSETFROM:-0500
TZOFFSETTO:-0600
TZNAME:CST
DTSTART:20251102T070000
END:STANDARD
END:VTIMEZONE
BEGIN:VEVENT
DTSTART;VALUE=DATE:20241018
DTEND;VALUE=DATE:20241020
DTSTAMP:20260421T162649
CREATED:20241008T171022Z
LAST-MODIFIED:20241008T171022Z
UID:10003067-1729209600-1729382399@www.texasforestcountryliving.com
SUMMARY:Ellen Trout Zoo's Zoo Boo
DESCRIPTION:Friday October 18 & 19\, 2024 \nGrab your little goblins and ghouls for 2 nights of fun trick-or-treating at Ellen Trout Zoo!\nZoo Boo\, presented by Wright GMC\, is a family-friendly Halloween event that offers a safe environment for children and families to have some fright-free spooky fun. Children can participate in fun games\, compete in a costume contest\, and collect sweets from various stations throughout the zoo. \nFOETZ Members and children under 4 get in free\, and for non-members\, regular zoo admission prices. \nVisit www.friendsofellentroutzoo.com to purchase Zoo Boo tickets or to sign up for the costume contest or a station.
URL:https://www.texasforestcountryliving.com/event/ellen-trout-zoos-zoo-boo/
LOCATION:Ellen Trout Zoo\, 402 Zoo Circle\, Lufkin\, TX\, 75904\, United States
CATEGORIES:Angelina County
ATTACH;FMTTYPE=image/png:https://www.texasforestcountryliving.com/wp-content/uploads/2024/10/spooky-boy-at-the-party-2023-11-27-05-24-43-utc-resized.png
END:VEVENT
BEGIN:VEVENT
DTSTART;TZID=America/Chicago:20221015T063000
DTEND;TZID=America/Chicago:20221015T100000
DTSTAMP:20260421T162649
CREATED:20220829T192627Z
LAST-MODIFIED:20221012T194853Z
UID:10000173-1665815400-1665828000@www.texasforestcountryliving.com
SUMMARY:SOLEHOPE Color Run 1K & 5K (Angelina County)
DESCRIPTION:COME RUN WITH US TO OFFER HOPE\, HEALTHIER LIVES\, AND FREEDOM FROM FOOT-RELATED ILLNESS FOR KIDS IN UGANDA.\n\nSouthside Baptist Church and Zavalla First Baptist present the Sole Hope Color Run. \nDate & Location: Saturday\, October 15th\, 2021 at Ellen Trout Zoo Pavilion #2\, 402 Zoo Circle\, Lufkin\, TX 75904\nTimes: Check in – 6:30am\n1K race start 8:30am\n5K race start 9:00am\nEVERYONE WELCOME! walkers & runners!\nPre-registration – $25 (closes 10/14 @ 6am)\nDay of Race Registration – $30\nRegistration fee includes run registrations\, one color pack\, and a race day T-shirt.\nThis is a 1K & 5K course. During the race\, participants are doused with color at various stations ending with one final color CELEBRATION at the finish line.\nComplete this registration and payment form to be registered online. If you prefer to register in person\, please make checks payable to Southside Baptist Church.\n\nFull Race payment is due by Monday\, September 12 to guarantee correct t-shirt size.
URL:https://www.texasforestcountryliving.com/event/solehope-color-run-1k-5k/
LOCATION:Ellen Trout Zoo\, 402 Zoo Circle\, Lufkin\, TX\, 75904\, United States
CATEGORIES:Angelina County
ATTACH;FMTTYPE=image/jpeg:https://www.texasforestcountryliving.com/wp-content/uploads/2022/08/sole-hope.jpg
END:VEVENT
BEGIN:VEVENT
DTSTART;TZID=America/Chicago:20221001T080000
DTEND;TZID=America/Chicago:20221001T170000
DTSTAMP:20260421T162649
CREATED:20220928T151518Z
LAST-MODIFIED:20220928T151518Z
UID:10000191-1664611200-1664643600@www.texasforestcountryliving.com
SUMMARY:2022 Walk to End Alzheimer’s
DESCRIPTION:This is an event held annually in more than 600 communities nationwide\, Walk to End Alzheimer’s is the world’s largest event to raise awareness and funds for Alzheimer’s care\, support\, and research.
URL:https://www.texasforestcountryliving.com/event/2022-walk-to-end-alzheimers/
LOCATION:Ellen Trout Zoo\, 402 Zoo Circle\, Lufkin\, TX\, 75904\, United States
CATEGORIES:Angelina County
ATTACH;FMTTYPE=image/jpeg:https://www.texasforestcountryliving.com/wp-content/uploads/2022/09/779f053877759e96a053bbdaf931c016de5b33759eca107b2a1c59f8fbfa07c1-rimg-w960-h504-gmir.jpg
END:VEVENT
BEGIN:VEVENT
DTSTART;TZID=America/Chicago:20220704T160000
DTEND;TZID=America/Chicago:20220704T230000
DTSTAMP:20260421T162649
CREATED:20220621T175558Z
LAST-MODIFIED:20220621T175558Z
UID:10000063-1656950400-1656975600@www.texasforestcountryliving.com
SUMMARY:4th of July Celebration
DESCRIPTION:Come on down to the Ellen Trout Zoo on Monday\, July 4th\, from 4pm-11pm to celebrate with fireworks and have fun with family and friends! There will food trucks and vendors! \nImage courtesy of 4th of July Celebration
URL:https://www.texasforestcountryliving.com/event/4th-of-july-celebration/
LOCATION:Ellen Trout Zoo\, 402 Zoo Circle\, Lufkin\, TX\, 75904\, United States
CATEGORIES:Angelina County,Holidays
ATTACH;FMTTYPE=image/jpeg:https://www.texasforestcountryliving.com/wp-content/uploads/2022/06/image.jpg
END:VEVENT
BEGIN:VEVENT
DTSTART;TZID=America/Chicago:20220521T183000
DTEND;TZID=America/Chicago:20220521T210000
DTSTAMP:20260421T162649
CREATED:20220509T202324Z
LAST-MODIFIED:20220509T202324Z
UID:10000021-1653157800-1653166800@www.texasforestcountryliving.com
SUMMARY:Evening Brunch with the Bats
DESCRIPTION:A fun night filled with brunch food\, cocktails\, music\, and bats! All proceeds benefit the Ellen Trout Zoo’s Exhibit Master Plan. \nTickets can be purchased by emailing tickets@friendsofellentroutzoo.com
URL:https://www.texasforestcountryliving.com/event/evening-brunch-with-the-bats/
LOCATION:Ellen Trout Zoo\, 402 Zoo Circle\, Lufkin\, TX\, 75904\, United States
CATEGORIES:Angelina County
ATTACH;FMTTYPE=image/jpeg:https://www.texasforestcountryliving.com/wp-content/uploads/2022/05/eveningwithbats.jpg
END:VEVENT
BEGIN:VEVENT
DTSTART;TZID=America/Chicago:20220326T100000
DTEND;TZID=America/Chicago:20220326T160000
DTSTAMP:20260421T162649
CREATED:20220322T165235Z
LAST-MODIFIED:20220322T165253Z
UID:10000072-1648288800-1648310400@www.texasforestcountryliving.com
SUMMARY:Raiders of the Lost Zoo Treasure Hunt
DESCRIPTION:Calling all explorers to complete 10 adventurous activities around Ellen Trout Zoo to collect treasure map pieces that lead to a hidden prize box!\nCheck in at the front of the zoo to begin your adventure.\n\nThe treasure hunt takes about 1 hour to complete.\nLast entry for the event at 3 pm.\n\nTickets: https://71959.blackbaudhosting.com/71959/Raiders-of-the-Lost-Zoo-2022?fbclid=IwAR1HrQs82pgJqddn8CCBS2_eqVDjD0REw0Fv0Mfg-vDa4Yq_u61_41hURK0\n*Printed tickets not required\, Ellen Trout Zoo will have a roster of registrants at the entrance.\n**Chaperones or family members of participants will need to pay separate general admission or use their FOETZ membership to enter the zoo.\n\nPhoto courtesy of Ellen Trout Zoo
URL:https://www.texasforestcountryliving.com/event/raiders-of-the-lost-zoo-treasure-hunt/
LOCATION:Ellen Trout Zoo\, 402 Zoo Circle\, Lufkin\, TX\, 75904\, United States
CATEGORIES:Angelina County
ATTACH;FMTTYPE=image/jpeg:https://www.texasforestcountryliving.com/wp-content/uploads/2022/03/raideroflostzoo.jpg
END:VEVENT
END:VCALENDAR