BEGIN:VCALENDAR
VERSION:2.0
PRODID:-//Texas Forest Country Living - ECPv6.15.20//NONSGML v1.0//EN
CALSCALE:GREGORIAN
METHOD:PUBLISH
X-WR-CALNAME:Texas Forest Country Living
X-ORIGINAL-URL:https://www.texasforestcountryliving.com
X-WR-CALDESC:Events for Texas Forest Country Living
REFRESH-INTERVAL;VALUE=DURATION:PT1H
X-Robots-Tag:noindex
X-PUBLISHED-TTL:PT1H
BEGIN:VTIMEZONE
TZID:America/Chicago
BEGIN:DAYLIGHT
TZOFFSETFROM:-0600
TZOFFSETTO:-0500
TZNAME:CDT
DTSTART:20230312T080000
END:DAYLIGHT
BEGIN:STANDARD
TZOFFSETFROM:-0500
TZOFFSETTO:-0600
TZNAME:CST
DTSTART:20231105T070000
END:STANDARD
BEGIN:DAYLIGHT
TZOFFSETFROM:-0600
TZOFFSETTO:-0500
TZNAME:CDT
DTSTART:20240310T080000
END:DAYLIGHT
BEGIN:STANDARD
TZOFFSETFROM:-0500
TZOFFSETTO:-0600
TZNAME:CST
DTSTART:20241103T070000
END:STANDARD
BEGIN:DAYLIGHT
TZOFFSETFROM:-0600
TZOFFSETTO:-0500
TZNAME:CDT
DTSTART:20250309T080000
END:DAYLIGHT
BEGIN:STANDARD
TZOFFSETFROM:-0500
TZOFFSETTO:-0600
TZNAME:CST
DTSTART:20251102T070000
END:STANDARD
END:VTIMEZONE
BEGIN:VEVENT
DTSTART;TZID=America/Chicago:20240514T100000
DTEND;TZID=America/Chicago:20240514T110000
DTSTAMP:20260424T070103
CREATED:20240514T123836Z
LAST-MODIFIED:20240514T124130Z
UID:10002973-1715680800-1715684400@www.texasforestcountryliving.com
SUMMARY:Nacogdoches Chamber Stakeholder Conference Call - Mental Health Awareness and Kentucky Derby Fundraiser
DESCRIPTION:Nacogdoches Chamber Stakeholder Conference Call\, sponsored by Burke\nSponsored by Burke.\nJoin the Nacogdoches Chamber Stakeholder Conference Call for updates and reportsFeature: May is mental health awareness month. Hear from Burke Director of Communications Kinnie Reina and more about the Nac Safe Place Kentucky Derby event from founder Alana Culpepper.\nLocal leaders give updates.\nPlease join the meeting from your computer\, tablet\, or smartphone.https://meet.goto.com/151379029You can also dial in using your phone.+1 (312) 757-3121 Access Code:151-379-029Get the app now and be ready when your first meeting starts:https://meet.goto.com/install\n\nDate/Time Information:\nTuesday\, May 14\, 2024 from 10 AM to 11 AM
URL:https://www.texasforestcountryliving.com/event/nacogdoches-chamber-stakeholder-conference-call-mental-health-awareness-and-kentucky-derby-fundrai/
LOCATION:Online Event
CATEGORIES:Nacogdoches County
ATTACH;FMTTYPE=image/jpeg:https://www.texasforestcountryliving.com/wp-content/uploads/2024/05/444149837_837293251768964_3047794252002155286_n.jpg
END:VEVENT
END:VCALENDAR