BEGIN:VCALENDAR
VERSION:2.0
PRODID:-//Texas Forest Country Living - ECPv6.15.20//NONSGML v1.0//EN
CALSCALE:GREGORIAN
METHOD:PUBLISH
X-WR-CALNAME:Texas Forest Country Living
X-ORIGINAL-URL:https://www.texasforestcountryliving.com
X-WR-CALDESC:Events for Texas Forest Country Living
REFRESH-INTERVAL;VALUE=DURATION:PT1H
X-Robots-Tag:noindex
X-PUBLISHED-TTL:PT1H
BEGIN:VTIMEZONE
TZID:America/Chicago
BEGIN:DAYLIGHT
TZOFFSETFROM:-0600
TZOFFSETTO:-0500
TZNAME:CDT
DTSTART:20220313T080000
END:DAYLIGHT
BEGIN:STANDARD
TZOFFSETFROM:-0500
TZOFFSETTO:-0600
TZNAME:CST
DTSTART:20221106T070000
END:STANDARD
BEGIN:DAYLIGHT
TZOFFSETFROM:-0600
TZOFFSETTO:-0500
TZNAME:CDT
DTSTART:20230312T080000
END:DAYLIGHT
BEGIN:STANDARD
TZOFFSETFROM:-0500
TZOFFSETTO:-0600
TZNAME:CST
DTSTART:20231105T070000
END:STANDARD
BEGIN:DAYLIGHT
TZOFFSETFROM:-0600
TZOFFSETTO:-0500
TZNAME:CDT
DTSTART:20240310T080000
END:DAYLIGHT
BEGIN:STANDARD
TZOFFSETFROM:-0500
TZOFFSETTO:-0600
TZNAME:CST
DTSTART:20241103T070000
END:STANDARD
END:VTIMEZONE
BEGIN:VEVENT
DTSTART;TZID=America/Chicago:20230730T063000
DTEND;TZID=America/Chicago:20230730T150000
DTSTAMP:20260423T083724
CREATED:20230720T115310Z
LAST-MODIFIED:20230720T115310Z
UID:10000310-1690698600-1690729200@www.texasforestcountryliving.com
SUMMARY:Pineland Day Kickoff Banquet (Sabine County)
DESCRIPTION:Live auctions\, silent auctions\, raffles\, and door prizes!\nTickets are $35/person or $50/couple.\nTables available at request. \nLocation: VFW Hall-Hemphill\nDate: Sunday\, July 30\, 2023 AT 6:30 AM \nEvent by Rebekkah Harley and PINELAND DAY 2023
URL:https://www.texasforestcountryliving.com/event/pineland-day-kickoff-banquet-sabine-county/
LOCATION:VFW Hall-Hemphill
CATEGORIES:Sabine County
ATTACH;FMTTYPE=image/jpeg:https://www.texasforestcountryliving.com/wp-content/uploads/2023/07/358681048_2613845715434850_3889256641987592878_n.jpg
END:VEVENT
END:VCALENDAR